BEGIN:VCALENDAR
VERSION:2.0
PRODID:-//wp-events-plugin.com//7.2.3.1//EN
TZID:Europe/Rome
X-WR-TIMEZONE:Europe/Rome
BEGIN:VEVENT
UID:41259@lazioeventi.com
DTSTART;TZID=Europe/Rome:20250504T080000
DTEND;TZID=Europe/Rome:20250504T160000
DTSTAMP:20250418T010322Z
URL:https://lazioeventi.com/eventi/soffitta-in-piazza-26
SUMMARY:Soffitta in piazza - Palombara Sabina - 4 Maggio 25 08:00
DESCRIPTION:Palombara Sabina \, Domenica 4 Maggio (dalle 8 alle 16) presso 
 l'area mercato (p. Le Giovanni Paolo II) per chi usa il navigatore mettere
  viale Tivoli\, c'è il mercatino "Soffitta in piazza" evento organizzato 
 da disoccupati\, precari del lavoro\, pensionati a basso reddito e privati
  cittadini che vogliono reagire con dignità al momento di crisi attuale\,
  privandosi di oggetti\, vestiti ecc. che non si usano più partecipando i
 n questo simpatico contesto sociale. Manifestazione patrocinata dalla Regi
 one Lazio e dal Comune di Palombara Sabina.\n\nAdeguata alle normative di 
 sicurezza per gli eventi pubblici. Ampio parcheggio\,punto ristoro con por
 chetta e parco giochi. Info per espositori 339-7116594 (mandare un messagg
 io SMS o WhatsApp e sarete ricontattati) prenotazioni tramite SMS o WhatsA
 pp al numero 349-0529976.\n\nIn caso di condizioni meteo avverse\, l'event
 o può essere annullato.
ATTACH;FMTTYPE=image/jpeg:https://lazioeventi.com/wp-content/uploads/2025/
 04/07-cartellone-4-MAGGIO.jpg
CATEGORIES:Fiere e Mercatini nel Lazio
LOCATION:Palombara Sabina\, Comune\, Palombara Sabina\, Roma\, Lazio\, Ital
 ia
GEO:42.0665;12.7649
X-APPLE-STRUCTURED-LOCATION;VALUE=URI;X-ADDRESS=Comune\, Palombara Sabina\,
  Roma\, Lazio\, Italia;X-APPLE-RADIUS=100;X-TITLE=Palombara Sabina:geo:42.
 0665,12.7649
END:VEVENT
BEGIN:VTIMEZONE
TZID:Europe/Rome
X-LIC-LOCATION:Europe/Rome
BEGIN:DAYLIGHT
DTSTART:20250330T030000
TZOFFSETFROM:+0100
TZOFFSETTO:+0200
TZNAME:CEST
END:DAYLIGHT
END:VTIMEZONE
END:VCALENDAR