BEGIN:VCALENDAR
VERSION:2.0
PRODID:-//wp-events-plugin.com//7.2.3.1//EN
TZID:Europe/Rome
X-WR-TIMEZONE:Europe/Rome
BEGIN:VEVENT
UID:44241@lazioeventi.com
DTSTART;TZID=Europe/Rome:20260510T080000
DTEND;TZID=Europe/Rome:20260510T150000
DTSTAMP:20260415T100302Z
URL:https://lazioeventi.com/eventi/soffitta-in-piazza-37
SUMMARY:Soffitta in Piazza - Palombara Sabina - 10 Maggio 26 08:00
DESCRIPTION:Palombara Sabina\, Domenica 10 Maggio (dalle 8:00 alle 15:00) p
 resso l’area mercato (P.le Giovanni Paolo II°) per chi usa il navigator
 e mettere Viale Tivoli\, c’è il mercatino “Soffitta in Piazza” even
 to organizzato per favorire disoccupati\, precari del lavoro\, pensionati 
 a basso reddito e privati cittadini che vogliono reagire con dignità al m
 omento di crisi attuale privandosi di oggetti\, vestiti ecc. che non usano
  più partecipando in questo simpatico contesto sociale.\n\nManifestazione
  patrocinata dalla Regione Lazio e dal Comune di Palombara Sabina.\n\nMerc
 atino adeguato alle normative di sicurezza per gli eventi pubblici. Ampio 
 parcheggio e parco giochi e punto. Info per gli espositori 339-7116594 (in
 viare messaggio WhatsApp o SMS e sarete ricontattati)\n\nIn caso di maltem
 po\, l'evento può essere annullato
ATTACH;FMTTYPE=image/jpeg:https://lazioeventi.com/wp-content/uploads/2026/
 04/07-cartellone-10-MAGGIO.jpg
CATEGORIES:Fiere e Mercatini nel Lazio
LOCATION:Palombara Sabina\, Comune\, Palombara Sabina\, Roma\, Lazio\, Ital
 ia
GEO:42.0665;12.7649
X-APPLE-STRUCTURED-LOCATION;VALUE=URI;X-ADDRESS=Comune\, Palombara Sabina\,
  Roma\, Lazio\, Italia;X-APPLE-RADIUS=100;X-TITLE=Palombara Sabina:geo:42.
 0665,12.7649
END:VEVENT
BEGIN:VTIMEZONE
TZID:Europe/Rome
X-LIC-LOCATION:Europe/Rome
BEGIN:DAYLIGHT
DTSTART:20260329T030000
TZOFFSETFROM:+0100
TZOFFSETTO:+0200
TZNAME:CEST
END:DAYLIGHT
END:VTIMEZONE
END:VCALENDAR