BEGIN:VCALENDAR
VERSION:2.0
PRODID:-//wp-events-plugin.com//7.2.3.1//EN
TZID:Europe/Rome
X-WR-TIMEZONE:Europe/Rome
BEGIN:VEVENT
UID:43968@lazioeventi.com
DTSTART;TZID=Europe/Rome;VALUE=DATE:20260228
DTEND;TZID=Europe/Rome;VALUE=DATE:20260501
DTSTAMP:20260311T060624Z
URL:https://lazioeventi.com/eventi/sogno-di-pietra
SUMMARY:Sogno di Pietra - Roma - 28 Febbraio 26 00:00
DESCRIPTION:Matèria è lieta di presentare Sogno di Pietra\, la quarta mos
 tra personale di Stefano Canto con la galleria. L’esposizione si configu
 ra come il capitolo conclusivo di un ciclo articolato in tre atti\, dedica
 to al tema dell’archeologia dell’effimero\, asse concettuale che ha at
 traversato le precedenti mostre Sotto l’influenza del Fiume. Sedimento (
 2018) e Carie (2021). In continuità con questo percorso\, Sogno di Pietra
  sarà accompagnata da una pubblicazione - in uscita a mostra in corso - a
  cura di Fiorenza Pinna.\n\nCon Sogno di Pietra\, Canto trasforma la galle
 ria in un deposito di cava\, spazio intermedio in cui la materia ancora no
 n ha una destinazione d’uso definita\, dove tutto resta possibile e nuov
 e traiettorie possono essere intraprese. In questa condizione sospesa\, lo
 ntana dal canone estetico del consumo\, la materia si manifesta nella sua 
 forma più autentica\, cruda e viva.\n\nLe sculture di Stefano Canto sono 
 opere in divenire\, in cui ciò che viene messo in scena è una dimensione
  processuale\, ciclica\, in costante trasformazione. Termini come litifica
 zione\, deposizione ed erosione\, propri del lessico geologico\, descrivon
 o efficacemente l’approccio dell’artista alla pratica scultorea: mater
 iali di natura e consistenza differenti vengono messi in relazione tra lor
 o in un continuo scambio\, dando origine a dinamiche di mutua trasformazio
 ne.\n\nSculture policrome composte da acqua\, ossidi e pigmenti congelati\
 , ritraggono figure immaginarie che si adagiano su torri di materiali acca
 tastati\, in attesa di diventare architettura: visioni sospese che affiora
 no dall’immaginario autobiografico dell’artista. Il rapido sciogliment
 o di questi busti di ghiaccio\, bagna la polvere di cemento sottostante\, 
 che reagisce solidificandosi in pietra: un fossile sedimentario in formazi
 one\, che conserva i lineamenti del volto che vi è stato posato. Ne deriv
 a una morfologia a cascata\, in cui la scultura si costruisce dall’inter
 no\, macchiando\, scavando e indurendo la materia strato dopo strato. È u
 n processo che in parte sfugge al controllo dell’artista e in cui coesis
 tono pieno e vuoto\, materia solida ed effimera\, manufatto e fenomeno nat
 urale\, antico e moderno. \n\nLa forma finale si configura come un sogno 
 di pietra: un pensiero liquido che si concretizza nella rovina del contemp
 oraneo\, reperto di un eterno presente. \n\nIn mostra è esposta anche un
 a selezione di lavori su carta: appunti visivi che Canto realizza prima di
  iniziare a scolpire\, momenti fondamentali di riflessione e sviluppo che 
 rivelano una fase più intima e istintiva del suo processo creativo.\n\nMa
 tèria presenta un nuovo intervento nella propria vetrina su strada\, spaz
 io dedicato a progetti visibili dall’esterno e concepiti come dispositiv
 o di dialogo con il contesto urbano. La vetrina ospita un lavoro di Plum C
 loutman\, artista con base a Londra\, nota per opere di piccolo formato ch
 e intrecciano memoria personale\, fantasia e interiorità domestica. I suo
 i dipinti\, spesso non più grandi di una cartolina\, invitano lo spettato
 re in mondi in miniatura in cui la realtà si dissolve silenziosamente e i
 l familiare diventa estraneo. Realizzate attraverso delicate stratificazio
 ni di olio\, matita acquerellabile e pastello\, le superfici delle sue ope
 re evocano le texture del legno\, dell’argilla e dei muri segnati dal te
 mpo\, custodendo un senso di durata\, di luogo e di trasformazione silenzi
 osa.\n
ATTACH;FMTTYPE=image/jpeg:https://lazioeventi.com/wp-content/uploads/2026/
 03/Progetto-senza-titolo-3.jpg
CATEGORIES:Arte e Cultura nel Lazio
LOCATION:Roma\, Via Leopardi\, Roma\, Roma\, Lazio\, Italia
GEO:41.8942;12.5017
X-APPLE-STRUCTURED-LOCATION;VALUE=URI;X-ADDRESS=Via Leopardi\, Roma\, Roma\
 , Lazio\, Italia;X-APPLE-RADIUS=100;X-TITLE=Roma:geo:41.8942,12.5017
END:VEVENT
BEGIN:VTIMEZONE
TZID:Europe/Rome
X-LIC-LOCATION:Europe/Rome
BEGIN:STANDARD
DTSTART:20251026T020000
TZOFFSETFROM:+0200
TZOFFSETTO:+0100
TZNAME:CET
END:STANDARD
BEGIN:DAYLIGHT
DTSTART:20260329T030000
TZOFFSETFROM:+0100
TZOFFSETTO:+0200
TZNAME:CEST
END:DAYLIGHT
END:VTIMEZONE
END:VCALENDAR