BEGIN:VCALENDAR
VERSION:2.0
PRODID:-//wp-events-plugin.com//7.2.3.1//EN
TZID:Europe/Rome
X-WR-TIMEZONE:Europe/Rome
BEGIN:VEVENT
UID:29765@lazioeventi.com
DTSTART;TZID=Europe/Rome:20220227T170000
DTEND;TZID=Europe/Rome:20220227T183000
DTSTAMP:20220131T110212Z
URL:https://lazioeventi.com/eventi/sogno-di-una-notta-di-mezzestate
SUMMARY:Sogno di una notta di mezz'estate - Tolfa - 27 Febbraio 22 17:00
DESCRIPTION:William Shakespeare\nSOGNO DI UNA NOTTE DI MEZZA ESTATE\n\nIl c
 apolavoro di Shakespeare Sogno di una notte di mezza estate va in scena al
  Teatro Claudio di Tolfa (RM) il 27 Febbraio alle ore 17.00 con l’allest
 imento di Margot Theatre\; lo spettacolo\, adatto ad adulti e bambini\, è
  un magico racconto di uomini\, donne e folletti\, che si perdono e si rit
 rovano tra mille peripezie all’interno del bosco di Atene e celebrano\, 
 infine\, l’amore e il valore dei sogni.\n\nBiglietto intero: 10€\nBigl
 ietto ridotto: 8€\n\nPRENOTAZIONE OBBLIGATORIA\ninfo@art-festival.it
ATTACH;FMTTYPE=image/jpeg:https://lazioeventi.com/wp-content/uploads/2022/
 01/mezza-estate.jpg
CATEGORIES:Musica, Spettacoli e Danza nel Lazio
LOCATION:Tolfa\, Comune di Tolfa\, Tolfa\, Roma\, Lazio\, Italia
GEO:42.1494;11.9374
X-APPLE-STRUCTURED-LOCATION;VALUE=URI;X-ADDRESS=Comune di Tolfa\, Tolfa\, R
 oma\, Lazio\, Italia;X-APPLE-RADIUS=100;X-TITLE=Tolfa:geo:42.1494,11.9374
END:VEVENT
BEGIN:VTIMEZONE
TZID:Europe/Rome
X-LIC-LOCATION:Europe/Rome
BEGIN:STANDARD
DTSTART:20211031T020000
TZOFFSETFROM:+0200
TZOFFSETTO:+0100
TZNAME:CET
END:STANDARD
END:VTIMEZONE
END:VCALENDAR