BEGIN:VCALENDAR
VERSION:2.0
PRODID:-//wp-events-plugin.com//7.2.3.1//EN
TZID:Europe/Rome
X-WR-TIMEZONE:Europe/Rome
BEGIN:VEVENT
UID:42573@lazioeventi.com
DTSTART;TZID=Europe/Rome:20250928T190000
DTEND;TZID=Europe/Rome:20250928T210000
DTSTAMP:20250925T052155Z
URL:https://lazioeventi.com/eventi/solisti-della-prestigiosa-staatskapelle
 -di-dresda
SUMMARY:Solisti della prestigiosa Staatskapelle di Dresda - Ariccia - 28 Se
 ttembre 25 19:00
DESCRIPTION:Domenica 28 settembre\, alle ore 19:00\, nella Sala Maestra di 
 Palazzo Chigi ad Ariccia terzo appuntamento del Ciclo d’Autunno dell’a
 pplauditissima Stagione 2025 dei Concerti dell’Accademia degli Sfaccenda
 ti.\n\nAppuntamento con uno straordinario Quintetto di strumentisti ad arc
 o prime parti della prestigiosa Orchestra della Staatskapelle di Dresda\, 
 la più antica orchestra del mondo\, quintetto formato da Federico Kasík 
 e Lukas Stepp violini\, Holger Grohs viola\, Sebastian Fritsch e Teresa Be
 ldi violoncelli.\n\nL’organico inusuale - non un quartetto tradizionale 
 con l'aggiunta di una viola come accade in Mozart e pure in Beethoven  be
 nsì con l’aggiunta di un violoncello - segnala subito che i cinque stru
 mentisti ad arco proporranno una composizione da camera riconosciuta oggi 
 come un capolavoro della storia della musica: il Quintetto per archi in do
  maggiore op.163 D.956 di Franz Schubert.\n\nIl Quintetto\, scritto due me
 si prima della morte del compositore\, con la sua durata vicina all'ora è
 \, insieme all'Ottetto D.803\, l'opera cameristica più estesa di Schubert
  e costituisce probabilmente la sua composizione più astratta e "metafisi
 ca".\n\nLa partitura compendia e riassume tutti i principali tratti dell'e
 strema fase creativa schubertiana che si riallaccia agli ultimi Quartetti 
 del 1824/26 di cui si ritrovano lo stemperamento nostalgico della dialetti
 ca classica\, la tendenza verso il canto puro\, la strumentazione che allu
 de a colori orchestrali.\n\nUn concerto e musicisti da non perdere!\n\n“
 I Concerti dell’Accademia degli Sfaccendati” sono organizzati dalla Co
 op Art di Roma\, per la Direzione Artistica di Giovanna Manci e Giacomo Fa
 sola\, con il contributo ed il patrocinio del Ministero della Cultura\, de
 lla Regione Lazio e del Comune di Ariccia.\n\nInfo e prenotazioni: 3331375
 561 – 069398003
ATTACH;FMTTYPE=image/jpeg:https://lazioeventi.com/wp-content/uploads/2025/
 09/concerto_28_settembre2025.jpg
CATEGORIES:Musica, Spettacoli e Danza nel Lazio
LOCATION:Ariccia\, Comune\, Ariccia\, Roma\, Lazio\, Italia
GEO:41.72;12.671
X-APPLE-STRUCTURED-LOCATION;VALUE=URI;X-ADDRESS=Comune\, Ariccia\, Roma\, L
 azio\, Italia;X-APPLE-RADIUS=100;X-TITLE=Ariccia:geo:41.72,12.671
END:VEVENT
BEGIN:VTIMEZONE
TZID:Europe/Rome
X-LIC-LOCATION:Europe/Rome
BEGIN:DAYLIGHT
DTSTART:20250330T030000
TZOFFSETFROM:+0100
TZOFFSETTO:+0200
TZNAME:CEST
END:DAYLIGHT
END:VTIMEZONE
END:VCALENDAR