BEGIN:VCALENDAR
VERSION:2.0
PRODID:-//wp-events-plugin.com//7.2.3.1//EN
TZID:Europe/Rome
X-WR-TIMEZONE:Europe/Rome
BEGIN:VEVENT
UID:39177@lazioeventi.com
DTSTART;TZID=Europe/Rome:20240614T100000
DTEND;TZID=Europe/Rome:20240620T190000
DTSTAMP:20240516T143204Z
URL:https://lazioeventi.com/eventi/solo-exhibit-by-camille-ross-native-lig
 ht-photography
SUMMARY:Solo Exhibit by Camille Ross "Native Light Photography" - Roma - 14
  Giugno 24 10:00
DESCRIPTION:Dal 14 al 20 Giugno 2024 Medina Art Gallery presenta SOLO EXHIB
 IT DI CAMILLE ROSS\n“Native Light Photography”\n\nestratto dal testo c
 ritico di Carmelita Brunetti\n\npresso la galleria di Via Merulana\, 220 R
 oma\nL’evento di opening si terrà il giorno 14 Giugno 2024 alle ore 18:
 00 presso la galleria di Via Merulana\, 220 Roma\n\nL'artista americana Ca
 mille Ross crea opere che fondono realtà e surreale\, esplorando nuove es
 tetiche visive.\n\nLe sue immagini provocano reazioni emotive profonde\, s
 pingendo a riflessioni sulla paura e l'angoscia. La sua arte è un'esplora
 zione dei sentimenti umani e la sua produzione si inserisce nel panorama i
 nternazionale fin dagli esordi della sua carriera. Ross utilizza la fotogr
 afia per raccontare storie di esperienze vissute e immaginate\, legate anc
 he alle sue radici native americane. Attraverso l'uso di NFT e la multimed
 ialità\, esplora temi come l'identità e la memoria ancestrale.\n\nVa pre
 cisato che nella sua fotografia\, nonostante le nuove tecnologie digitali\
 , le modalità di scatto e di gestione della luce rimangono quelle ben stu
 diate dell’analogico.\n\nNel suo ultimo progetto "Native Light"\, Ross s
 i avventura nell'uso dell'intelligenza artificiale per esprimere visivamen
 te i suoi sogni ancestrali. Le sue opere riflettono un viaggio personale a
 ttraverso i simbolismi dei nativi americani e gli archetipi junghiani\, of
 frendo uno sguardo intimo sulla sua eredità culturale e personale.\n\nAcc
 ompagna la mostra un volume a colori inedito di 110 pagine. Il libro in ed
 izione limitata e Luxury  raccoglie tutta l'opera fotografica dell'artist
 a americana Camille Ross.\n\nEdito da ArtonWorld Edizione.\n\n\nOrario ape
 rtura: tutti i giorni 10:00-13:00 e 15:00-19:00
ATTACH;FMTTYPE=image/jpeg:https://lazioeventi.com/wp-content/uploads/2024/
 05/LOCANDINA-SOLO-EXHIBIT-CAMILLE-ROSS.jpg
CATEGORIES:Arte e Cultura nel Lazio
LOCATION:Roma\, Via Leopardi\, Roma\, Roma\, Lazio\, Italia
GEO:41.8942;12.5017
X-APPLE-STRUCTURED-LOCATION;VALUE=URI;X-ADDRESS=Via Leopardi\, Roma\, Roma\
 , Lazio\, Italia;X-APPLE-RADIUS=100;X-TITLE=Roma:geo:41.8942,12.5017
END:VEVENT
BEGIN:VTIMEZONE
TZID:Europe/Rome
X-LIC-LOCATION:Europe/Rome
BEGIN:DAYLIGHT
DTSTART:20240331T030000
TZOFFSETFROM:+0100
TZOFFSETTO:+0200
TZNAME:CEST
END:DAYLIGHT
END:VTIMEZONE
END:VCALENDAR