BEGIN:VCALENDAR
VERSION:2.0
PRODID:-//wp-events-plugin.com//7.2.3.1//EN
TZID:Europe/Rome
X-WR-TIMEZONE:Europe/Rome
BEGIN:VEVENT
UID:35429@lazioeventi.com
DTSTART;TZID=Europe/Rome;VALUE=DATE:20230616
DTEND;TZID=Europe/Rome;VALUE=DATE:20230619
DTSTAMP:20230515T093727Z
URL:https://lazioeventi.com/eventi/soriano-medieval-fest
SUMMARY:Soriano Medieval Fest - Viterbo - 16 Giugno 23 00:00
DESCRIPTION:La Compagnia Medievale "Castrum Seriani"- ASD presenta il Soria
 no Medieval Fest\, passeggiando nel medioevo.\n\nSpettacoli di Falconeria 
 e Magia\nCombattimenti e Duelli\nMercati ed Antichi mestieri\nMusiche e Da
 nze\nAnimazione e giochi medievali\nTiro con arco storico\nStand Enogastro
 nomici
ATTACH;FMTTYPE=image/jpeg:https://lazioeventi.com/wp-content/uploads/2023/
 05/soriano-medieval-fest.jpg
CATEGORIES:Sport, Tempo Libero e Divertimento nel Lazio,Musica, Spettacoli
 e Danza nel Lazio
LOCATION:Viterbo\, Comune\, Viterbo\, Viterbo\, Lazio\, Italia
GEO:42.417;12.1051
X-APPLE-STRUCTURED-LOCATION;VALUE=URI;X-ADDRESS=Comune\, Viterbo\, Viterbo\
 , Lazio\, Italia;X-APPLE-RADIUS=100;X-TITLE=Viterbo:geo:42.417,12.1051
END:VEVENT
BEGIN:VTIMEZONE
TZID:Europe/Rome
X-LIC-LOCATION:Europe/Rome
BEGIN:DAYLIGHT
DTSTART:20230326T030000
TZOFFSETFROM:+0100
TZOFFSETTO:+0200
TZNAME:CEST
END:DAYLIGHT
END:VTIMEZONE
END:VCALENDAR