BEGIN:VCALENDAR
VERSION:2.0
PRODID:-//wp-events-plugin.com//7.2.3.1//EN
TZID:Europe/Rome
X-WR-TIMEZONE:Europe/Rome
BEGIN:VEVENT
UID:29355@lazioeventi.com
DTSTART;TZID=Europe/Rome:20211128T153000
DTEND;TZID=Europe/Rome:20211128T173000
DTSTAMP:20211124T173208Z
URL:https://lazioeventi.com/eventi/sotterranei-e-basilica-san-martino-ai-m
 onti
SUMMARY:Sotterranei e Basilica San Martino ai Monti - Roma - 28 Novembre 21
  15:30
DESCRIPTION:Domenica 28 novembre 2021 visita guidata alla Basilica dei Sant
 i Silvestro e Martino ai Monti\, nota anche come San Martino ai Monti.\n\n
 Ricostruiremo insieme tutta la storia dell’area\, lo sviluppo dell’ant
 ico Titulus Equitii e la fondazione della basilica di IV secolo\, in un’
 area della città dove ancora si conservano tracce delle antiche mura di R
 oma.\n\nIn che modo? Scendendo nei suoi sotterranei!\n\nL’area archeolog
 ica che si sviluppa sotto la basilica è in parte velata dal mistero\, mol
 ti dettagli infatti ancora sfuggono agli studiosi\; ma comunque vi proponi
 amo una lettura chiara e aggiornata sulle intricate vicende che riguardano
  la storia del sito.\n\nNon mancheremo di osservare e apprezzare le tante 
 testimonianze artistiche che ancora sopravvivono\, come il mosaico di V se
 colo con Simmaco e Papa Silvestro\, gli affreschi della volta datati al IX
  secolo\, i mosaici in tessere bianco-nere e molto altro.\n\nCompleteremo 
 la visita nella chiesa barocca .\n\n&nbsp\;\nInformazioni utili\nAppuntame
 nto: ore 15\,30 Viale del Monte Oppio\, 28 (davanti alla chiesa)\nQuota d
 i partecipazione: 15€ + Tessera 2021 (€5)\nLa quota comprende il sist
 ema di amplificazione sanificato.\nLe iscrizioni effettuate dal 1 settembr
 e in poi hanno validità estesa anche per tutto il 2022.\nOfferta per la c
 hiesa: 3€ a persona\nDurata: 2 ore circa\nGuida: Marika\n\n&nbsp\;
ATTACH;FMTTYPE=image/jpeg:https://lazioeventi.com/wp-content/uploads/2021/
 11/m_S.-Martino-ai-Monti-antico-titulus-554x600-1.jpg
CATEGORIES:Arte e Cultura nel Lazio
LOCATION:Roma\, Via Leopardi\, Roma\, Roma\, Lazio\, Italia
GEO:41.8942;12.5017
X-APPLE-STRUCTURED-LOCATION;VALUE=URI;X-ADDRESS=Via Leopardi\, Roma\, Roma\
 , Lazio\, Italia;X-APPLE-RADIUS=100;X-TITLE=Roma:geo:41.8942,12.5017
END:VEVENT
BEGIN:VTIMEZONE
TZID:Europe/Rome
X-LIC-LOCATION:Europe/Rome
BEGIN:STANDARD
DTSTART:20211031T020000
TZOFFSETFROM:+0200
TZOFFSETTO:+0100
TZNAME:CET
END:STANDARD
END:VTIMEZONE
END:VCALENDAR