BEGIN:VCALENDAR
VERSION:2.0
PRODID:-//wp-events-plugin.com//7.2.3.1//EN
TZID:Europe/Rome
X-WR-TIMEZONE:Europe/Rome
BEGIN:VEVENT
UID:33595@lazioeventi.com
DTSTART;TZID=Europe/Rome;VALUE=DATE:20230221
DTEND;TZID=Europe/Rome;VALUE=DATE:20230306
DTSTAMP:20230223T154205Z
URL:https://lazioeventi.com/eventi/space-opera
SUMMARY:Space Opera - Roma - 21 Febbraio 23 00:00
DESCRIPTION:Un viaggio interplanetario con una visuale a 360°\, interament
 e basato sulle note della suite “Op.32: The Planets” di Gustav Holst\n
 \nIl ritrovamento di un disco volante nel sottosuolo permette agli spettat
 ori di diventare passeggeri di un’astronave aliena e decollare dalla Ter
 ra per visitare l’intero sistema solare giocando con i concetti di Spazi
 o e Tempo. L’astronave è dotata di una finestra panoramica circolare ch
 e mostra i corpi celesti durante il viaggio\, richiedendo una partecipazio
 ne attiva del pubblico\, mentre si procede per “tappe cosmiche” e “c
 orridoi interplanetari”\, accompagnati dalla voce di Ottavia Piccolo (ce
 lebre doppiatrice della Principessa Leila in “Star Wars”).\n\nPresenta
 to nel 2010 al Planetario della Biblioteca di Alessandria di Egitto\, dura
 nte il meeting dell’International Planetarium Society\,“Space Opera”
  si è distinta come esperienza più artistica e cinematografica che scien
 tifica\, assolutamente unica nel suo genere e forse ha contribuito alla na
 scita di un nuovo modo di produrre contenuti per planetari. Successivament
 e\, è stato tradotto in 7 lingue. Si tratta del primo e tuttora unico pro
 dotto italiano su questo formato: a circa 12 anni dalla sua pubblicazione 
 è stato proiettato in circa 200 planetari nel mondo.\n\nPROSSIME DATE\nDa
  martedì 21.02.23 a venerdì 24.02.23 alle ore 16:00\;\nSabato 25.02.23 a
 lle ore 10:00\;\nDa martedì 28.02.23 a venerdì 03.03.23 alle ore 16:00\;
 \nDomenica 05.03.23 alle ore 10:00\;\n\nBiglietto d'ingresso\nIntero non 
 Residente € 9\,50\nIntero Residente € 8\,50\nRidotto non Residenti 
 € 7\,50\nRidotto Residenti € 6\,50\nSpeciale Famiglia € 22\,00 per
  due adulti\, gratuito per figli minori di 18 anni con applicazione di €
  1\,00 di prevendita biglietto\nIngresso ridotto al museo con la MIC ca
 rd\, acquistabile nei musei e online.\n\nGiorni di chiusura: Lunedì\n
ATTACH;FMTTYPE=image/jpeg:https://lazioeventi.com/wp-content/uploads/2022/
 12/space-opera.jpg
CATEGORIES:Arte e Cultura nel Lazio
LOCATION:Roma\, Via Leopardi\, Roma\, Roma\, Lazio\, Italia
GEO:41.8942;12.5017
X-APPLE-STRUCTURED-LOCATION;VALUE=URI;X-ADDRESS=Via Leopardi\, Roma\, Roma\
 , Lazio\, Italia;X-APPLE-RADIUS=100;X-TITLE=Roma:geo:41.8942,12.5017
END:VEVENT
BEGIN:VTIMEZONE
TZID:Europe/Rome
X-LIC-LOCATION:Europe/Rome
BEGIN:STANDARD
DTSTART:20221030T020000
TZOFFSETFROM:+0200
TZOFFSETTO:+0100
TZNAME:CET
END:STANDARD
END:VTIMEZONE
END:VCALENDAR