BEGIN:VCALENDAR
VERSION:2.0
PRODID:-//wp-events-plugin.com//7.2.3.1//EN
TZID:Europe/Rome
X-WR-TIMEZONE:Europe/Rome
BEGIN:VEVENT
UID:34187@lazioeventi.com
DTSTART;TZID=Europe/Rome:20230402T180000
DTEND;TZID=Europe/Rome:20230402T200000
DTSTAMP:20230221T075536Z
URL:https://lazioeventi.com/eventi/spaghetti
SUMMARY:Spaghetti - Viterbo - 2 Aprile 23 18:00
DESCRIPTION:Spettacolo di circo teatro sulle migrazioni italiane di inizio 
 secolo\n\nSiamo intorno ai primi del ‘900\, gli anni delle importanti mi
 grazioni degli italiani oltreoceano.\nValigie piene di storie\, di speranz
 e\, di ricordi\, di malinconia e…di pasta.\n\nUn lungo viaggio in nave\,
  storie che si intrecciano\, storie di speranza\, di grandi euforie\, di p
 aura e di nausea\, storie di un’immigrazione che\, nel tempo\, si ripete
 \, identica\, con altri nomi\, altri tragitti\, ma straordinariamente semp
 re uguale.\nGli spaghetti saranno di nuovo sulla tavola\, senza sapere se 
 ci sarà una casa\, senza sapere quale sarà il futuro\, ma quel rito\, qu
 ell’odore\, quel sapere\, tutto ciò darà di nuovo forma alla storia fa
 miliare\, accompagnerà i ricordi e cullerà il sogno di ricominciare.\nIl
  linguaggio del circo teatro\, così fortemente evocativo e sanguigno\, sa
 rà accompagnato da parti di racconto orale\, in un continuo viaggio tra e
 mozioni diverse\, tra piani differenti e differenti punti di vista.\n\nCom
 pagnia Materiaviva\npresenta\nSPAGHETTI\nDiretto da Roberta Castelluzzo\nP
 rodotto da Compagnia Materiaviva\nLo spettacolo è stato realizzato con il
  sostegno di Regione Lazio – Fondo Unico 2021 per lo spettacolo dal vivo
 .\nHa debuttato a Dicembre 2021 nella Rassegna Internazionale di Circo Tea
 tro BATTITI.\n\nBiglietti in vendita presso il botteghino del Teatro o onl
 ine su Ticketone.\n\nIntero 15\,00 € + 1\,50 € di prevendita\nRidotto 
 12\,00 € + 1\,00 € di prevendita\nRidotto per le scuole di danza e per
  gli abbonati € 10\,00\n\nLa biglietteria del Teatro è aperta dal marte
 dì al sabato con orario 10.00 – 13.00 e 15.00 – 19.00.\nAperto anche 
 di domenica\, con gli stessi orari\, solo in caso di spettacoli o altre at
 tività.\nChiuso il lunedì.
ATTACH;FMTTYPE=image/jpeg:https://lazioeventi.com/wp-content/uploads/2023/
 02/spaghetti.jpeg
CATEGORIES:Musica, Spettacoli e Danza nel Lazio
LOCATION:Viterbo\, Comune\, Viterbo\, Viterbo\, Lazio\, Italia
GEO:42.417;12.1051
X-APPLE-STRUCTURED-LOCATION;VALUE=URI;X-ADDRESS=Comune\, Viterbo\, Viterbo\
 , Lazio\, Italia;X-APPLE-RADIUS=100;X-TITLE=Viterbo:geo:42.417,12.1051
END:VEVENT
BEGIN:VTIMEZONE
TZID:Europe/Rome
X-LIC-LOCATION:Europe/Rome
BEGIN:DAYLIGHT
DTSTART:20230326T030000
TZOFFSETFROM:+0100
TZOFFSETTO:+0200
TZNAME:CEST
END:DAYLIGHT
END:VTIMEZONE
END:VCALENDAR