BEGIN:VCALENDAR
VERSION:2.0
PRODID:-//wp-events-plugin.com//7.2.3.1//EN
TZID:Europe/Rome
X-WR-TIMEZONE:Europe/Rome
BEGIN:VEVENT
UID:30237@lazioeventi.com
DTSTART;TZID=Europe/Rome:20220507T110000
DTEND;TZID=Europe/Rome:20220508T190000
DTSTAMP:20220328T105933Z
URL:https://lazioeventi.com/eventi/spasso-divino
SUMMARY:Spasso Divino - Colonna - 7 Maggio 22 11:00
DESCRIPTION:Colonna vi aspetta il 7 e 8 Maggio per il secondo appuntamento 
 di sPasso diVino!\n\nL'evento si divide in due momenti\, sta a voi sceglie
 re la modalità di partecipazione!\n\nSiete curiosi di conoscere le aziend
 e? Volete sapere di più sul vino?\n\nAmate le lunghe passeggiate?\nAllora
 \, prima di entrare nel vivo della festa\, allacciatevi le scarpe e prenot
 ate il vostro tour.\nVi porteremo tra i filari\, nei vigneti\, per un perc
 orso di circa 6km\, muniti di sacca da degustazione.\nI produttori saranno
  lieti di ospitarvi all'interno delle aziende vitivinicole e di illustrare
  tutti i passaggi che dalla vendemmia all'imbottigliamento portano alla re
 alizzazione di un prodotto di qualità... per poi passare ovviamente all'a
 ssaggio!\n\nSiete pigri e l'unica cosa che volete fare nel week-end è fug
 gire dalla routine quotidiana?\nIn Piazza Vittorio Emanuele II troverete q
 uello che fa per voi!\nA partire dalle 12 i sommelier di Versanti\, insiem
 e alle cantine Cìfero\, Cardone\, Conte Zandotti\, Eredi dei Papi e Princ
 ipe Pallavicini\, vi accompagneranno tra gli stand verso un percorso di de
 gustazione dei vini prodotti nel piccolo borgo dei castelli romani\, carat
 terizzati da spiccate note fruttate e minerali date dal terroir vulcanico 
 della zona.\nNon mancherà l'assaggio delle pincinelle\, tradizionale past
 a acqua e farina dello scenario contadino colonnese e di altri prodotti ti
 pici locali.\n\nCi sarà poi una grande esposizione d'arte per tutti gli a
 ppassionati di fotografia\, pittura e mosaico\, il tutto accompagnato da i
 ntrattenimento e spettacoli musicali!\n\nCHE ASPETTATE? VENITE A TROVARCI!
 \n\nQui potete scaricare la brochure.
ATTACH;FMTTYPE=image/jpeg:https://lazioeventi.com/wp-content/uploads/2022/
 03/spasso-divino.jpg
CATEGORIES:Sagre, Gastronomia e Tradizioni nel Lazio,Sport, Tempo Libero e
 Divertimento nel Lazio
LOCATION:Colonna\, Comune di Colonna\, Colonna\, Roma\, Lazio\, Italia
GEO:41.8343;12.751
X-APPLE-STRUCTURED-LOCATION;VALUE=URI;X-ADDRESS=Comune di Colonna\, Colonna
 \, Roma\, Lazio\, Italia;X-APPLE-RADIUS=100;X-TITLE=Colonna:geo:41.8343,12
 .751
END:VEVENT
BEGIN:VTIMEZONE
TZID:Europe/Rome
X-LIC-LOCATION:Europe/Rome
BEGIN:DAYLIGHT
DTSTART:20220327T030000
TZOFFSETFROM:+0100
TZOFFSETTO:+0200
TZNAME:CEST
END:DAYLIGHT
END:VTIMEZONE
END:VCALENDAR