BEGIN:VCALENDAR
VERSION:2.0
PRODID:-//wp-events-plugin.com//7.2.3.1//EN
TZID:Europe/Rome
X-WR-TIMEZONE:Europe/Rome
BEGIN:VEVENT
UID:36051@lazioeventi.com
DTSTART;TZID=Europe/Rome;VALUE=DATE:20230707
DTEND;TZID=Europe/Rome;VALUE=DATE:20230708
DTSTAMP:20230628T095648Z
URL:https://lazioeventi.com/eventi/spazi-eterni
SUMMARY:Spazi eterni - Roma - 7 Luglio 23 00:00
DESCRIPTION:Eternal spaces of a continuous quest\, of a soul that knows how
  to create space\, structure and fluidity\, deconstruction\, abstraction a
 nd simplicity.The river that everything drags is known as violent\, but\n 
 nobody calls violent the margins that arrest him’-Bertolt BrechtBy repla
 cing the word ‘violent’ with the word ‘intense’\, I would say that
  that line of Brecht’s perfectly encapsulates the work of Maria Papadopo
 ulou in all her idiosyncrasy\, as I have grasped from the little that we h
 ave interacted. She is an artist\, amongst many other things\, who has con
 quered in herself the impulse and the limit.\n\nWorks that are energy port
 als\, emblematic and metaphysical spaces at the same time invite the viewe
 r to open their vision\, their conscience\, thus creating for us a passage
  into the meta-space of all spaces and the personal geography which Maria 
 Papadopoulou has created through her own unique fingerprint.An intensive p
 alette\, warm\, vivid layers of colour replete with intensity and feeling 
 are juxtaposed with cooler\, logical spatial structures and fluid overlays
 .
ATTACH;FMTTYPE=image/jpeg:https://lazioeventi.com/wp-content/uploads/2023/
 06/locandina-4-2.jpg
CATEGORIES:Arte e Cultura nel Lazio
LOCATION:Roma\, Via Leopardi\, Roma\, Roma\, Lazio\, Italia
GEO:41.8942;12.5017
X-APPLE-STRUCTURED-LOCATION;VALUE=URI;X-ADDRESS=Via Leopardi\, Roma\, Roma\
 , Lazio\, Italia;X-APPLE-RADIUS=100;X-TITLE=Roma:geo:41.8942,12.5017
END:VEVENT
BEGIN:VTIMEZONE
TZID:Europe/Rome
X-LIC-LOCATION:Europe/Rome
BEGIN:DAYLIGHT
DTSTART:20230326T030000
TZOFFSETFROM:+0100
TZOFFSETTO:+0200
TZNAME:CEST
END:DAYLIGHT
END:VTIMEZONE
END:VCALENDAR