BEGIN:VCALENDAR
VERSION:2.0
PRODID:-//wp-events-plugin.com//7.2.3.1//EN
TZID:Europe/Rome
X-WR-TIMEZONE:Europe/Rome
BEGIN:VEVENT
UID:34535@lazioeventi.com
DTSTART;TZID=Europe/Rome:20230624T100000
DTEND;TZID=Europe/Rome:20230625T220000
DTSTAMP:20230313T102634Z
URL:https://lazioeventi.com/eventi/spazio-comics-colleferro
SUMMARY:Spazio Comics Colleferro - Colleferro - 24 Giugno 23 10:00
DESCRIPTION:Per la prima volta in assoluto\, arriva a Colleferro il festiva
 l del fumetto e del gioco\, “Spazio Comics Colleferro”\, organizzato d
 al Comune di Colleferro in occasione dell’Anno dei Giovani 2023\, in col
 laborazione con l’Associazione Nuova-Mente.\nArriva a Colleferro il fest
 ival del fumetto e del gioco\, “Spazio Comics Colleferro”\n\nIl festiv
 al punta alla valorizzazione del territorio locale con una rappresentazion
 e culturale diversa dalle solite\, strizzando sì l’occhio alle nuove ge
 nerazioni ma coinvolgendo anche l’eterogeneo pubblico di appassionati di
  ogni età.\n\n“Spazio Comics Colleferro” è più di un semplice festi
 val del fumetto\, è una panoramica a 360° sul mondo nerd: fumetti\, vide
 ogiochi\, modellismo\, giochi di carte\, cosplay: un universo tutto da sco
 prire!\n\nL’appuntamento è per sabato 24 e domenica 25 giugno 2023\, da
 lle ore 10.00 alle ore 22.00\, nelle seguenti zone di Colleferro: Parchegg
 io Viale Europa (adiacente alla Piscina Comunale)\; Via XXV Aprile\; Scuol
 a media Leonardo Da Vinci\; Stadio comunale Maurizio Natali.\n\nL’ingres
 so è libero e gratuito.\n\nPer prenotare uno spazio espositivo o ricevere
  maggiori informazioni a riguardo\, contattare: Pier Luigi Pasquazi +39 34
 9 4381834\n\nPer ricevere maggiori informazioni sui piani di sponsorizzazi
 one previsti per l’evento\, contattare: Francesco Maggi +39 392 7465134\
 n\nStiamo cercando dei fotografi e dei cosplayer per una giornata di shoot
 ing nei luoghi più caratteristici di Colleferro\; per partecipare ed esse
 re il volto della manifestazione\, contattare: Francesco Maggi +39 392 746
 5134\n\nPer ricevere maggiori informazioni sull’evento\, contattare: Cri
 stina Sabbioni +39 333 2332626\n\nOppure mandare un’e-mail a: spaziocomi
 cscolleferro@gmail.com
ATTACH;FMTTYPE=image/jpeg:https://lazioeventi.com/wp-content/uploads/2023/
 03/spazio-comics-colleferro-2023.jpg
CATEGORIES:Fiere e Mercatini nel Lazio,Sport, Tempo Libero e Divertimento
 nel Lazio
LOCATION:Colleferro\, Comune\, Colleferro\, Roma\, Lazio\, Italia
GEO:41.7302;13.0058
X-APPLE-STRUCTURED-LOCATION;VALUE=URI;X-ADDRESS=Comune\, Colleferro\, Roma\
 , Lazio\, Italia;X-APPLE-RADIUS=100;X-TITLE=Colleferro:geo:41.7302,13.0058
END:VEVENT
BEGIN:VTIMEZONE
TZID:Europe/Rome
X-LIC-LOCATION:Europe/Rome
BEGIN:DAYLIGHT
DTSTART:20230326T030000
TZOFFSETFROM:+0100
TZOFFSETTO:+0200
TZNAME:CEST
END:DAYLIGHT
END:VTIMEZONE
END:VCALENDAR