BEGIN:VCALENDAR
VERSION:2.0
PRODID:-//wp-events-plugin.com//7.2.3.1//EN
TZID:Europe/Rome
X-WR-TIMEZONE:Europe/Rome
BEGIN:VEVENT
UID:40401@lazioeventi.com
DTSTART;TZID=Europe/Rome:20241214T210000
DTEND;TZID=Europe/Rome:20241214T220000
DTSTAMP:20241209T112747Z
URL:https://lazioeventi.com/eventi/specific-dancers-open-rehearsals
SUMMARY:SPECIFIC dancers (open rehearsals) - Tuscania - 14 Dicembre 24 21:0
 0
DESCRIPTION:Sabato 14 dicembre è la prima occasione per assistere ad un Op
 en rehearsals dell'international advanced dance program 24/25 diretto da L
 oris Petrillo.\nNon perdetela!\n\n\nL’evento sarà ad entrata gratuita f
 ino ad esaurimento posti\, con prenotazione obbligatoria\, e si terrà al 
 Supercinema di Tuscania (VT) alle ore 21.00\n\n\n\nLa serata:\n\n• Round
  One\ncurata da Fay Van Baar\n\n• Dengue Dengue Dengue\ncurata da Loris 
 Petrillo\n\nPer prenotare il tuo posto\, scrivi a info@cietwain.com o su W
 hatsApp al n° +39 380 146 2962
ATTACH;FMTTYPE=image/jpeg:https://lazioeventi.com/wp-content/uploads/2024/
 12/Locandina-performance-approvata1.jpg
CATEGORIES:Musica, Spettacoli e Danza nel Lazio
LOCATION:Tuscania\, Comune\, Tuscania\, Viterbo\, Lazio\, Italia
GEO:42.4162;11.8761
X-APPLE-STRUCTURED-LOCATION;VALUE=URI;X-ADDRESS=Comune\, Tuscania\, Viterbo
 \, Lazio\, Italia;X-APPLE-RADIUS=100;X-TITLE=Tuscania:geo:42.4162,11.8761
END:VEVENT
BEGIN:VTIMEZONE
TZID:Europe/Rome
X-LIC-LOCATION:Europe/Rome
BEGIN:STANDARD
DTSTART:20241027T020000
TZOFFSETFROM:+0200
TZOFFSETTO:+0100
TZNAME:CET
END:STANDARD
END:VTIMEZONE
END:VCALENDAR