BEGIN:VCALENDAR
VERSION:2.0
PRODID:-//wp-events-plugin.com//7.2.3.1//EN
TZID:Europe/Rome
X-WR-TIMEZONE:Europe/Rome
BEGIN:VEVENT
UID:43576@lazioeventi.com
DTSTART;TZID=Europe/Rome:20260209T170000
DTEND;TZID=Europe/Rome:20260209T190000
DTSTAMP:20260118T133706Z
URL:https://lazioeventi.com/eventi/splendi-come-vita
SUMMARY:Splendi come vita - Velletri - 9 Febbraio 26 17:00
DESCRIPTION:A Velletri\, lunedì 9 febbraio 2026 dalle 17:00 alle 19:00\, l
 a biblioteca comunale ospita il secondo incontro del ciclo di lettura dal 
 tema Nel nome della madre\, organizzato dal gruppo di lettura Il Circolett
 o. Protagonista dell’appuntamento sarà il libro “Splendi come vita”
  di Maria Grazia Calandrone.\n\nL’opera rappresenta una vera e propria l
 ettera poetica alla madre adottiva e si distingue per la capacità di unir
 e prosa e poesia in un racconto che esplora legami familiari\, memoria e i
 dentità. La lettura è intensa e coinvolgente\, stimolando riflessioni pr
 ofonde sui legami materni e sull’eredità affettiva.\n\nL’incontro è 
 parte del secondo ciclo del progetto Il Circoletto\, realizzato dalla bibl
 ioteca comunale in collaborazione con Biblionova Società Cooperativa. L
 ’iniziativa è aperta a tutti i lettori adulti interessati a condividere
  impressioni sui libri letti privatamente e a creare un momento di dialogo
  e confronto culturale.
ATTACH;FMTTYPE=image/jpeg:https://lazioeventi.com/wp-content/uploads/2026/
 01/gruppo-lettura-velletri-splendi-come-vita-1.jpg
CATEGORIES:Arte e Cultura nel Lazio
LOCATION:Velletri\, Comune\, Velletri\, Roma\, Lazio\, Italia
GEO:41.6865;12.7776
X-APPLE-STRUCTURED-LOCATION;VALUE=URI;X-ADDRESS=Comune\, Velletri\, Roma\, 
 Lazio\, Italia;X-APPLE-RADIUS=100;X-TITLE=Velletri:geo:41.6865,12.7776
END:VEVENT
BEGIN:VTIMEZONE
TZID:Europe/Rome
X-LIC-LOCATION:Europe/Rome
BEGIN:STANDARD
DTSTART:20251026T020000
TZOFFSETFROM:+0200
TZOFFSETTO:+0100
TZNAME:CET
END:STANDARD
END:VTIMEZONE
END:VCALENDAR