BEGIN:VCALENDAR
VERSION:2.0
PRODID:-//wp-events-plugin.com//7.2.3.1//EN
TZID:Europe/Rome
X-WR-TIMEZONE:Europe/Rome
BEGIN:VEVENT
UID:43540@lazioeventi.com
DTSTART;TZID=Europe/Rome:20260117T100000
DTEND;TZID=Europe/Rome:20260117T130000
DTSTAMP:20260113T084347Z
URL:https://lazioeventi.com/eventi/sport-e-inclusione-oltre-ogni-barriera
SUMMARY:Sport e inclusione: oltre ogni barriera - Genzano di Roma - 17 Genn
 aio 26 10:00
DESCRIPTION:“SPORT E INCLUSIONE OLTRE OGNI BARRIERA QUANDO LO SPORT DIVEN
 TA UN LINGUAGGIO UNIVERSALE DI INCLUSIONE\, BENESSERE E INTEGRAZIONE\nSABA
 TO 17 GENNAIO ORE 10 SALA CONVEGNI ISTITUTO SALESIANO DON VERSIGLIA – GE
 NZANO\n\n“Sport e inclusione: oltre ogni barriera” in primo piano a Ge
 nzano di Roma sabato 17 gennaio alle ore 10 nella sala Convegni dell’Ist
 ituto Salesiano Don Versiglia\, in viale Giuseppe Mazzini 11.\n\nOrganizza
 to dalle associazioni T.P.C. Tempo per Crescere Aps e In–Forma Lab Asd c
 on il patrocinio del Comune di Genzano di Roma\, CIP (Comitato Italiano Pa
 ralimpico)\, Sport E Salute e inSEGNIamo Aps\, Il convegno aperto al pubbl
 ico\, porta al centro lo sport ponendo l’accento sull’imprescindibilit
 à dell’inclusione\, a tutela del benessere e della salute dei soggetti 
 con difficoltà psicomotorie.\n\nCorpo e mente al centro del dibattito che
 \, moderato dalla giornalista Patrizia Claps\, invita al tavolo\, per un a
 pprofondimento sul tema\, Fabio Caiazzo consigliere di Sport e Salute\, Ma
 risa Menna sociologa\, Valeria Grillo responsabile del Progetto Viaggiator
 i a Canestro e presidente dell’APS Co-Progettazione Autismo\, Laura Sali
 mberti Mental Coach della Federazione Sport Sordi Italia\, Gaetano Agliata
  posturologo\, Loretta Magni nutrizionista e biologa\, Erica Biaggi farmac
 ista e atleta e Alessandro Zanotto architetto.\n\nIl saluto del sindaco de
 lla città di Genzano Carlo Zoccolotti e dell’Assessore alla Sport Gianl
 uca Ercolani daranno il via ai lavori.\n\nObiettivo del progetto firmato V
 incenzina Malcotti presidente di Tempo per Crescere e Francesco Ducci al v
 ertice di In-Forma Lab presentato il prossimo 17 a Genzano\, sensibilizzar
 e l’opinione pubblica sul tema della disabilità e coinvolgere Enti e Is
 tituzioni dei Castelli Romani in un’azione coesa\, volta alla realizzazi
 one di un centro sportivo polifunzionale strutturato per persone con disab
 ilità e privo quindi di barriere architettoniche.\n\n“Sin dalla nascita
  ho vissuto sulla mia pelle la difficoltà della disabilità – dichiara 
 Vincenzina Malcotti – Sono nata senza una gamba e camminare nel mondo og
 ni giorno non è stato per niente facile. Sono supportata da una protesi a
 rtificiale che mi ha consentito di vivere una vita normale. Conosco molto 
 bene la difficoltà con la quale le persone come me\, sono chiamate a conf
 rontarsi ogni istante\, per questo ho fondato T.P.C. Tempo per Crescere Ap
 s\, attraverso la quale ci adoperiamo a camminare accanto alle persone con
  disabilità aiutandoli a credere nei propri sogni e trasformarli passo do
 po passo in realtà. Nei Castelli Romani manca attualmente una struttura s
 portiva realmente accessibile alle persone con difficoltà motorie ed io c
 redo che sia arrivato il momento non solo di immaginarla ma di costruirla 
 insieme. Il mio sogno è unire le forze creare una rete reale e collaborat
 iva affinché nessuna persona con disabilità debba più sentirsi esclusa 
 dallo sport e poter dire domani che le barriere non le abbiamo solo raccon
 tate ma superate davvero”.\n\n“Come chinesiologo lavoro nel mondo dell
 ’attività motoria da oltre cinquant’anni\, – spiega Francesco Ducci
  – in questo lungo percorso ho imparato che lo sport può essere tante c
 ose ma prima di tutto è una possibilità quella di muoversi\, migliorare 
 e sentirsi parte. In-Forma Lab Asd si occupa di persone con problematiche 
 muscolo scheletriche\, con disturbi neurologici\, con disabilità\, offren
 do supporto ad atleti sia nell’ambito della prevenzione sia del recupero
 . Per noi inclusione significa aiutare le persone a scoprire cosa possono 
 ancora fare e come\, piuttosto che dire ciò che non possono più. E’ ne
 cessario un luogo dove la valutazione non sia un giudizio ma un punto di p
 artenza. Personalmente sono convinto che la salute passi attraverso un’a
 ttività fisica senza barriere e che lo sport inclusivo non sia un’alter
 nativa a quello tradizionale ma piuttosto una scelta culturale”.\n\nOspi
 te della giornata il presidente del Comitato Italiano Paralimpico Giuseppe
  Andreana. Offriranno testimonianza gli atleti paralimpici Valerio Cocco p
 er il parakarate\, Matteo Falchi nuotatore FSDIR\, Giacomo Perini per il c
 anottaggio\, Maria de Rosa Canottaggio e Sitting pallavolo\, e Annagrazia 
 Russo atleta.\n\nIl convegno sarà supportato dal servizio di interpretari
 ato in LIS.\n\nUn brunch di saluto accompagnerà la chiusura dei lavori”
 . Lo dichiarano gli organizzatori.
ATTACH;FMTTYPE=image/jpeg:https://lazioeventi.com/wp-content/uploads/2026/
 01/Screenshot.jpeg
CATEGORIES:Arte e Cultura nel Lazio
LOCATION:Genzano di Roma\, Comune di Genzano di Roma\, Genzano di Roma\, Ro
 ma\, Lazio\, Italia
GEO:41.7074;12.6901
X-APPLE-STRUCTURED-LOCATION;VALUE=URI;X-ADDRESS=Comune di Genzano di Roma\,
  Genzano di Roma\, Roma\, Lazio\, Italia;X-APPLE-RADIUS=100;X-TITLE=Genzan
 o di Roma:geo:41.7074,12.6901
END:VEVENT
BEGIN:VTIMEZONE
TZID:Europe/Rome
X-LIC-LOCATION:Europe/Rome
BEGIN:STANDARD
DTSTART:20251026T020000
TZOFFSETFROM:+0200
TZOFFSETTO:+0100
TZNAME:CET
END:STANDARD
END:VTIMEZONE
END:VCALENDAR