BEGIN:VCALENDAR
VERSION:2.0
PRODID:-//wp-events-plugin.com//7.2.3.1//EN
TZID:Europe/Rome
X-WR-TIMEZONE:Europe/Rome
BEGIN:VEVENT
UID:29127@lazioeventi.com
DTSTART;TZID=Europe/Rome:20211121T210000
DTEND;TZID=Europe/Rome:20211121T230000
DTSTAMP:20211111T211424Z
URL:https://lazioeventi.com/eventi/standup-comedy-garage-2021-11-21
SUMMARY:StandUp Comedy Garage - Roma - 21 Novembre 21 21:00
DESCRIPTION:A partire da domenica 14 novembre 2021 e\, a seguire ogni domen
 ica\, Daniele Fabbri e i suoi colleghi StandUp Comedian tornano ad accende
 re il microfono per il seguitissimo StandUp Comedy Garage\, pronto a debut
 tare sul palco del QUID in Via Assisi 117.\n\nOgni domenica l’appuntamen
 to con le battute sarà diviso in due momenti: dalle ore 20.00 sarà trasm
 esso in streaming su QUID Channel e\, dalle 21.00 - spente le telecamere d
 ella WebTV nata da un palco chiuso durante l’emergenza -\, andrà in liv
 e\, con le esibizioni dal vivo dei protagonisti di StandUp Comedy Garage\,
  guidati da Daniele Fabbri\, standup comedian e curatore dell’evento.\n\
 nQuando guardiamo i Live Show di un famoso StandUp Comedian internazionale
  e siamo estasiati dalle sue geniali battute\, dimentichiamo che\, prima d
 i registrare lo show\, quell’artista ha provato quelle battute almeno du
 ecento volte con il pubblico\, sperimentandole nei club e nei piccoli loca
 li. È proprio in questi “garage”\, in un’atmosfera più informale e
  diretta\, che i comici mettono a punto il loro repertorio\, in un rapport
 o schietto e complice con il pubblico in sala\, per raggiungere le prestaz
 ioni adatte ad uno show da competizione.\n\nStandUp Comedy Garage\, il pi
 ù longevo evento di standup comedy a Roma\, sbarca al suo settimo anno co
 n due grandi novità. Lo storico Open Mic diretto da Daniele Fabbri\, nome
  di punta della scena comedy italiana\, riprende ad animare le serate dell
 a capitale trasferendosi in una nuova location\, la sala-spettacolo del QU
 ID\, live club della storica Pizzeria Frontoni\, pietra miliare della rist
 orazione capitolina e già nota per le sue iniziative artistiche in campo 
 musicale.\n\nLa seconda novità è il Garage Live Podcast – “Lo Show p
 rima dello Show” -\, Daniele Fabbri e i suoi comici resident Davide Mari
 ni\, Sandro Canori\, Andrea Di Castro e Gabriele Antinori\, realizzeranno 
 ogni sera un doppio evento: un talk show con il pubblico dal vivo\, che sa
 rà visibile anche in diretta streaming\, in cui conduttore e comici si al
 terneranno ad ospiti speciali per parlare di pop culture\, curiosità e vi
 ta nella capitale\; a seguire lo spettacolo live\, che come da tradizione 
 del Comedy Garage\, ospiterà comici emergenti ai primi passi sul palco e 
 volti noti della comicità romana\, intenti a testare i loro futuri cavall
 i di battaglia.\n\nMODALITÀ D’INGRESSO\n\nQUID Channel\, c/o Pizzeria F
 rontoni (Evento Live) - Via Assisi 117\, Roma (Metro Stazione Tuscolana)\n
 \nORARI: Apertura ore 19.30 - Inizio Streaming ore 20.00 – Inizio Live o
 re 21.00\n\n[Cena e Prenotazione Obbligatorie] - INFO: 06 7834 9259
ATTACH;FMTTYPE=image/jpeg:https://lazioeventi.com/wp-content/uploads/2021/
 11/Fabbri_orizz.jpg
CATEGORIES:Musica, Spettacoli e Danza nel Lazio
LOCATION:Roma\, Via Leopardi\, Roma\, Roma\, Lazio\, Italia
GEO:41.8942;12.5017
X-APPLE-STRUCTURED-LOCATION;VALUE=URI;X-ADDRESS=Via Leopardi\, Roma\, Roma\
 , Lazio\, Italia;X-APPLE-RADIUS=100;X-TITLE=Roma:geo:41.8942,12.5017
END:VEVENT
BEGIN:VTIMEZONE
TZID:Europe/Rome
X-LIC-LOCATION:Europe/Rome
BEGIN:STANDARD
DTSTART:20211031T020000
TZOFFSETFROM:+0200
TZOFFSETTO:+0100
TZNAME:CET
END:STANDARD
END:VTIMEZONE
END:VCALENDAR