BEGIN:VCALENDAR
VERSION:2.0
PRODID:-//wp-events-plugin.com//7.2.3.1//EN
TZID:Europe/Rome
X-WR-TIMEZONE:Europe/Rome
BEGIN:VEVENT
UID:27001@lazioeventi.com
DTSTART;TZID=Europe/Rome:20200718T210000
DTEND;TZID=Europe/Rome:20200718T223000
DTSTAMP:20200713T134540Z
URL:https://lazioeventi.com/eventi/stavamo-meglio-quando-stavamo-peggio
SUMMARY:Stavamo meglio quando stavamo peggio? - Tuscania - 18 Luglio 20 21:
 00
DESCRIPTION:Sabato 18 luglio 2020\, alle ore 21\,00\, in Piazza F. Basile\,
  spettacolo teatrale di e con Stefano Masciarelli e Fabrizio Coniglio: STA
 VAMO MEGLIO QUANDO STAVAMO PEGGIO?. Ingresso gratuito. L'ingresso avverrà
  nel rispetto delle norme anti COVID-19
ATTACH;FMTTYPE=image/jpeg:https://lazioeventi.com/wp-content/uploads/2020/
 07/stavamomeglioquandostavamopeggio.jpg
CATEGORIES:Musica, Spettacoli e Danza nel Lazio
LOCATION:Tuscania\, Comune\, Tuscania\, Viterbo\, Lazio\, Italia
GEO:42.4162;11.8761
X-APPLE-STRUCTURED-LOCATION;VALUE=URI;X-ADDRESS=Comune\, Tuscania\, Viterbo
 \, Lazio\, Italia;X-APPLE-RADIUS=100;X-TITLE=Tuscania:geo:42.4162,11.8761
END:VEVENT
BEGIN:VTIMEZONE
TZID:Europe/Rome
X-LIC-LOCATION:Europe/Rome
BEGIN:DAYLIGHT
DTSTART:20200329T030000
TZOFFSETFROM:+0100
TZOFFSETTO:+0200
TZNAME:CEST
END:DAYLIGHT
END:VTIMEZONE
END:VCALENDAR