BEGIN:VCALENDAR
VERSION:2.0
PRODID:-//wp-events-plugin.com//7.2.3.1//EN
TZID:Europe/Rome
X-WR-TIMEZONE:Europe/Rome
BEGIN:VEVENT
UID:37888@lazioeventi.com
DTSTART;TZID=Europe/Rome:20231125T160000
DTEND;TZID=Europe/Rome:20231125T180000
DTSTAMP:20231122T222037Z
URL:https://lazioeventi.com/eventi/stop-al-femminicidio
SUMMARY:Stop al Femminicidio - Priverno - 25 Novembre 23 16:00
DESCRIPTION:L’Amministrazione Comunale\, in occasione delle celebrazioni 
 per la Giornata Internazionale per l’eliminazione della violenza contro 
 le donne\, organizza sabato 25 novembre\, presso Piazza Giovanni XXIII e i
  locali espositivi dei Portici Comunali Paolo Di Pietro\, una manifestazio
 ne al fine di invitare a far riflettere sul significato della Giornata\, a
  denunciare il fenomeno della violenza di genere\, promuovendo la cultura 
 del rispetto e della valorizzazione delle donne.\n\n \n\nNel denunciare og
 ni forma di violenza\, il Comune di Priverno\, le Associazioni del territo
 rio e i cittadini partecipanti\, hanno scelto di “esserci” per lanciar
 e un segnale forte attraverso le arti della poesia\, della pittura\, dell
 ’happening e dello sport\, con le dimostrazioni di difesa personale dell
 ’ASD Showa Dojo Team Osanna\, le testimonianze di Sara Sartilli e le dim
 ostrazioni di arti olistiche\, a cura del Centro Zag\, le scenografie del 
 Gruppo Cuore di Penelope\, le letture di Dario Salvagni e le esposizioni a
 rtistiche di Anna Colaiacovo\, Palma Aceto\, Raffaella Fusciello\, Gianni 
 Mastrantoni\, Anna Musico\, Giovanna Sacchetti\, Nadia Turella\, in mostra
  per un giorno.\n\nPer l’occasione\, la Pro Loco Priverno ha già lancia
 to sui canali social\, il Contest “Celebriamo la donna! Combattiamo la v
 iolenza”\, invitando chiunque a condividere pensieri\, frasi\, azioni\, 
 libere espressioni per una reale speranza.\n\n \n\nNel denunciare ogni for
 ma di violenza\, anche quella meno visibile perché non lascia segni sulla
  pelle\, ma capace di distruggere giorno dopo giorno mente e corpo\, invit
 iamo\ntutte le attività produttive e i cittadini che vogliono manifestare
  partecipazione\, ad appendere un drappo/nastro rosso fuori la propria att
 ività e/o abitazione\, in finestra\, su un balcone\, sulla propria auto\,
  o ovunque desideri lasciare un segno di testimonianza che la comunità di
  Priverno è indissolubilmente unita contro la violenza di genere.\n\n \n\
 nRicordiamo che il Centro Anti Violenza “Libera” (CAV) di Priverno\, a
 llocato presso gli spazi dei Servizi Sociali del Comune di Priverno\, in V
 ia Giacomo Matteotti\, offre gratuitamente e anonimamente alle donne accog
 lienza e sostegno attraverso le operatrici esperte dell’associazione Cen
 tro Donna Lilith ed è attivo i giorni di lunedì e giovedì\, dalle ore 1
 5.00 alle ore 18.00\, e martedì\, mercoledì e venerdì\, dalle ore 9.00 
 alle ore 12.00. Resta\, comunque\, contattabile h24 al numero 3245661130\,
  collegato al numero Nazionale 1522 e all’indirizzo mail centroantiviole
 nzapriverno@gmail.com.
ATTACH;FMTTYPE=image/jpeg:https://lazioeventi.com/wp-content/uploads/2023/
 11/locandina-stop-al-femminicidio-def.jpg
CATEGORIES:Varie,Arte e Cultura nel Lazio
LOCATION:Priverno\, Comune di Priverno\, Priverno\, Latina\, Lazio\, Italia
GEO:41.4734;13.1817
X-APPLE-STRUCTURED-LOCATION;VALUE=URI;X-ADDRESS=Comune di Priverno\, Priver
 no\, Latina\, Lazio\, Italia;X-APPLE-RADIUS=100;X-TITLE=Priverno:geo:41.47
 34,13.1817
END:VEVENT
BEGIN:VTIMEZONE
TZID:Europe/Rome
X-LIC-LOCATION:Europe/Rome
BEGIN:STANDARD
DTSTART:20231029T020000
TZOFFSETFROM:+0200
TZOFFSETTO:+0100
TZNAME:CET
END:STANDARD
END:VTIMEZONE
END:VCALENDAR