BEGIN:VCALENDAR
VERSION:2.0
PRODID:-//wp-events-plugin.com//7.2.3.1//EN
TZID:Europe/Rome
X-WR-TIMEZONE:Europe/Rome
BEGIN:VEVENT
UID:43546@lazioeventi.com
DTSTART;TZID=Europe/Rome:20260118T163000
DTEND;TZID=Europe/Rome:20260118T174500
DTSTAMP:20260114T111357Z
URL:https://lazioeventi.com/eventi/storie-di-kiriku-e-le-ombre-magiche
SUMMARY:Storie di Kirikù e le ombre magiche - Roma - 18 Gennaio 26 16:30
DESCRIPTION:Arriva da Avezzano il prossimo spettacolo in programma per la r
 assegna Infanzie in gioco 2025-2026 a Centrale Preneste Teatro in Via Albe
 rto da Giussano\, 58 a Roma (zona Pigneto/Malatesta): appuntamento domenic
 a 18 gennaio alle 16.30 con Storie di Kirikù e le ombre magiche di Teatro
  dei Colori. Lo spettacolo\, teatro d’attore e di figura con suoni dal v
 ivo\, nasce da un’idea di Gabriele Ciaccia\, la regia e la drammaturgia 
 sono di Valentina Ciaccia\, sul palco Raffaella Alfidi e Ilaria Fantozzi.\
 n\nKirikù è un bimbo speciale\, nuovo\, diverso\, la sua voce si senti
 va già dalla pancia della mamma e appena nato sceglie il suo nome. Kiriku
 ̀ è un eroe\, ma è piccolo\, è un bambino! E quando sceglierà di s
 configgere la strega Karabà e di liberare il villaggio dalla maledizione
  della siccità e della paura\, lo farà proprio come un bambino: con inte
 lligenza\, astuzia\, curiosità e comprensione\, perché attraverso prove\
 , sconfitte e vittorie il villaggio ritrovi la sua serenità.\n\nLa storia
  nasce dall’Africa occidentale e vive nella dimensione di un lungo tempo
  del racconto. Nel rispetto di queste meravigliose origini\, si svolge tut
 to attorno alla capanna\, luogo della nascita e della vita\, del fuori e d
 el dentro\, delle ombre magiche di animali e danzatori\, di pupazzi e di f
 eticci. La narrazione è affidata al vecchio spirito che vive dentro l’
 albero dei racconti e alla saggia nonna che insegna ai bimbi del villaggio
  il gioco più bello che c’è: il gioco delle ombre e del teatro.\n\nSuo
 ni e canti\, percussioni e oggetti\, stoffe che diventano lo schermo su cu
 i danzano le ombre colorate e magiche dell’Africa\, bella vitale e vicin
 a.\n\nStorie di Kirikù arriva ai suoi 20 anni di repliche ininterrotte co
 n una versione tutta nuova\, piena di musica dal vivo e di gioiosa allegri
 a.\n\nAdatto dai 5 ai 12 anni. Il costo del biglietto è di 7 euro.\n\nAcq
 uisto esclusivamente on-line su www.centraleprenesteteatro.it/calendario-e
 venti o in biglietteria il giorno dello spettacolo dalle ore 16.00 previa 
 disponibilità dei posti.\n\nStorie di Kirikù e le ombre magiche\nPensier
 i sull’Africa perduta\nTeatro dei Colori\nDa un’idea di Gabriele Ciacc
 ia\nRegia e drammaturgia: Valentina Ciaccia\nInterpreti: Raffaella Alfidi\
 , Ilaria Fantozzi\nFigure: Bartolomeo Giusti\, Ilaria Comisso\nInterventi 
 sonori dal vivo: Vito Caputo\nAudio e luce: Boris Granieri\nSagome in ombr
 a: Roberto Santavicca\nOrganizzazione: Gabriella Montuori\n\nDomenica 18 g
 ennaio 2026 alle 16.30\nCentrale Preneste Teatro Via Alberto da Giussano\,
  58 – Roma (Pigneto/Malatesta)\nBiglietto unico: 7.00 €\nAcquisto escl
 usivamente on-line su www.centraleprenesteteatro.it/calendario-eventi o in
  biglietteria il giorno dello spettacolo dalle ore 16.00 previa disponibil
 ità dei posti.\nInformazioni: 0627801063 lun/ven 10.00–17.00\ninfo@ruot
 alibera.eu -www.centraleprenesteteatro.it\nFB www.facebook.com/CentralePre
 nesteTeatro\nIG www.instagram.com/centralepreneste/
ATTACH;FMTTYPE=image/jpeg:https://lazioeventi.com/wp-content/uploads/2026/
 01/Kiriku1.jpg
CATEGORIES:Musica, Spettacoli e Danza nel Lazio
LOCATION:Roma\, Via Leopardi\, Roma\, Roma\, Lazio\, Italia
GEO:41.8942;12.5017
X-APPLE-STRUCTURED-LOCATION;VALUE=URI;X-ADDRESS=Via Leopardi\, Roma\, Roma\
 , Lazio\, Italia;X-APPLE-RADIUS=100;X-TITLE=Roma:geo:41.8942,12.5017
END:VEVENT
BEGIN:VTIMEZONE
TZID:Europe/Rome
X-LIC-LOCATION:Europe/Rome
BEGIN:STANDARD
DTSTART:20251026T020000
TZOFFSETFROM:+0200
TZOFFSETTO:+0100
TZNAME:CET
END:STANDARD
END:VTIMEZONE
END:VCALENDAR