BEGIN:VCALENDAR
VERSION:2.0
PRODID:-//wp-events-plugin.com//7.2.3.1//EN
TZID:Europe/Rome
X-WR-TIMEZONE:Europe/Rome
BEGIN:VEVENT
UID:37080@lazioeventi.com
DTSTART;TZID=Europe/Rome:20240120T170000
DTEND;TZID=Europe/Rome:20240121T183000
DTSTAMP:20230918T075013Z
URL:https://lazioeventi.com/eventi/storie-nellarmadio-e-di-kiriku
SUMMARY:Storie nell'Armadio e di Kirikù - Roma - 20 Gennaio 24 17:00
DESCRIPTION:20 gennaio\nSTORIE NELL’ARMADIO\nscritto e diretto di Oberdan
  Cesanelli\nCompagnia Lagrù ragazzi di Porto S.Elpidio\nDue attori\, spav
 entati ma curiosi \, si avvicinano  a uno strano armadio comparso all’im
 provviso…che cosa ci sarà dentro? Vecchi costumi teatrali? Polverose pa
 rrucche? E cosa si nasconde nell’armadio di ogni bambino? Mostri\, streg
 he\, marmocchi dispettosi\, draghi\, principi\, fate? A causa di un lupo a
 lquanto dispettoso\, i due attori sono costretti ad aiuutare le misteriose
  creature che si nascondono nell’armadio e a spaventare tutti i bambini 
 presenti in sala. I protagonisti escono magicamente e prendono vita\, in u
 n esilarante carosello di storie vecchie e nuove che tentano di spaventare
 \, ma fanno solo divertire.\nGran finale con un’esaltante battaglia di c
 uscini tra gli spettatori.\ntecnica: teatro d’attore – pupazzi - burat
 tini\netà: 3-10 anni\nParole chiave: curiosità – sorprese – interazi
 one con il pubblico\n\n21 gennaio \nSTORIE DI KIRIKU’\nscritto e diretto
  di Valentina Ciaccia\nCompagnia teatro dei Colori di Avezzano\nCome in un
 a grande pittura di Henri Rousseau: capanne\, alberi\, fiori e animali viv
 ono in una scena “selvaggia”. Ma gli uomini abitano ogni luogo del nos
 tro pianeta\, anche ai confini di foreste e savane\, dove vivono tutti gli
  animali\, quelli amici dell’uomo e quelli da conoscere\, rispettare e a
 ddomesticare. Come vengono allevati\, cosa producono gli animali in un vil
 laggio africano? In una civiltà agro pastorale segnata dal ritmo e dai ca
 nti del tempo\, quali sono i racconti di quelli che vivono nelle foreste e
  nelle savane? Ce lo farà scoprire il piccolo grande Kirikù\, il bimbo p
 iù scaltro e veloce della tradizione Africana\, un bambino speciale che l
 ibererà il suo villaggio dalla maledizione della strega Karabà. Lo spett
 acolo vuole anche offrire temi di riflessione quali: la nascita e la cresc
 ita\, le paure e i desideri\, la capacità di affrontare le difficoltà e 
 di superarle\, il singolo e il gruppo\, la distinzione tra fantasia e real
 tà\, la conoscenza di altre forme culturali (i suoni\, la struttura di un
  villaggio che qui diventa la struttura delle spazio scenico…)\, economi
 che (il lavoro femminile e maschile\, l’importanza dell’acqua\, il tem
 a della desertificazione…)\, religiose (simboli\, feticci\, culto degli 
 antenati\, riti magico-propiziatori…)\, naturalistiche (il territorio e 
 gli animali).\ntecnica: teatro d’attore - pupazzi\netà: 5 – 10 anni\n
 Parole chiave: intercultura – crescita - africa\n\nTEATRO VERDE (dal 197
 9 il teatro dei bambini e dei ragazzi di Roma)\nCirc.ne Gianicolense\, 10 
 (di fronte alla stazione Trastevere) Roma\nCome raggiungerci: tram 3 - 8 
 / bus H - 719 - 773 - 780 - 781 - 228 - 170- 786 - 766 - 774 - 871\ntreni 
 FM 1 (Orte - Fiumicino aeroporto)\; FM 3 (Roma - Viterbo)\; FM 5 (Roma - C
 ivitavecchia)\n \nSpettacoli: sabato\, domenica e festivi ore 17 e su ri
 chiesta ore 15.00 e/o ore 18.30\nBiglietti: è attiva la biglietteria on 
 line su www.teatroverde.it\ningresso intero € 11\,00 ridotti €10\,00
  \nGreenCard: carnet/abbonamento da 10 spettacoli €100\,00 – 15 spett
 acoli €145\,00 – 20 spettacoli €180\,00\n \nper enti\, cral e assoc
 iazioni\nSpettacoli con animazioni in giorni e orari da concordare.\n \nB
 otteghino\, informazioni e prenotazioni: telefono 06.5882034 - teatrover
 deroma@gmail.com     \ndal lunedì al sabato dalle ore 9.00 alle ore 
 18.00\ndomenica e festivi dalle ore 11.00 alle ore 19.00 
ATTACH;FMTTYPE=image/jpeg:https://lazioeventi.com/wp-content/uploads/2023/
 09/teatro-verde.jpg
CATEGORIES:Musica, Spettacoli e Danza nel Lazio
LOCATION:Roma\, Via Leopardi\, Roma\, Roma\, Lazio\, Italia
GEO:41.8942;12.5017
X-APPLE-STRUCTURED-LOCATION;VALUE=URI;X-ADDRESS=Via Leopardi\, Roma\, Roma\
 , Lazio\, Italia;X-APPLE-RADIUS=100;X-TITLE=Roma:geo:41.8942,12.5017
END:VEVENT
BEGIN:VTIMEZONE
TZID:Europe/Rome
X-LIC-LOCATION:Europe/Rome
BEGIN:STANDARD
DTSTART:20231029T020000
TZOFFSETFROM:+0200
TZOFFSETTO:+0100
TZNAME:CET
END:STANDARD
END:VTIMEZONE
END:VCALENDAR