BEGIN:VCALENDAR
VERSION:2.0
PRODID:-//wp-events-plugin.com//7.2.3.1//EN
TZID:Europe/Rome
X-WR-TIMEZONE:Europe/Rome
BEGIN:VEVENT
UID:34306@lazioeventi.com
DTSTART;TZID=Europe/Rome:20230326T083000
DTEND;TZID=Europe/Rome:20230326T123000
DTSTAMP:20230228T195125Z
URL:https://lazioeventi.com/eventi/stracamminando-a-frosinone
SUMMARY:StraCamminando a Frosinone - Frosinone - 26 Marzo 23 08:30
DESCRIPTION:Il 26 marzo si terrà la domenica ecologica dalle ore 8 alle 18
 \, in adempimento delle disposizioni della Regione Lazio in materia.\n\nNe
 l corso della domenica ecologica\, all’interno dell’area interdetta al
  traffico veicolare sarà possibile partecipare anche alla StraCamminando\
 , la corsa podistica non competitiva aperta a tutti gli appassionati dell
 ’attività sportiva e soprattutto alle famiglie\n\nOrganizzata dall’At
 letica Frosinone e dall’ente di promozione sportiva OPES Italia\, con il
  patrocinio del Comune di Frosinone\, l’iniziativa si avvale della colla
 borazione dell’Assessorato all’Ambiente coordinato dal vicesindaco Ant
 onio Scaccia e ha il sostegno di diverse realtà del mondo produttivo frus
 inate.\n\n«Domenica la città potrà vivere un’altra giornata all’ins
 egna dello sport e dell’aggregazione – ha dichiarato il consigliere de
 legato allo Sport\, Francesco Pallone – Tutti i cittadini sono invitati 
 a partecipare alla StraCamminando: il percorso con cui cimentarsi è di 4.
 5 km\; l’iscrizione è gratuita ed è previsto un gadget per tutti i par
 tecipanti. La partenza dal Parco Matusa è fissata per le ore 10.30».\n\n
 Il percorso includerà quindi piazza Martiri di Valle Rotonda\, Via Mola V
 ecchia\, Via Ciamarra\, Via Marittima\, Via Aldo Moro\, Via M.T.Cicerone\,
  Via G.De Matthaeis\, Via Landolfi\, Via Adige\, Via Po\, Via Aldo Moro\, 
 Piazza Martiri di Valle Rotonda e Parco Matusa.\n\nLe iscrizioni sono aper
 te sul sito www.atleticafrosinone.it oppure presso il Parco Matusa\, domen
 ica dalle ore 8.30 alle ore 9.45. \n\nI pettorali potranno essere ritirati
  sabato 25 marzo 2023\, dalle ore 15.30 alle ore 17.30 o il giorno della g
 ara fino a 30 minuti prima della partenza.
ATTACH;FMTTYPE=image/jpeg:https://lazioeventi.com/wp-content/uploads/2023/
 02/stracamminando.jpg
CATEGORIES:Sport, Tempo Libero e Divertimento nel Lazio
LOCATION:Frosinone\, Comune\, Frosinone\, Frosinone\, Lazio\, Italia
GEO:41.6396;13.3508
X-APPLE-STRUCTURED-LOCATION;VALUE=URI;X-ADDRESS=Comune\, Frosinone\, Frosin
 one\, Lazio\, Italia;X-APPLE-RADIUS=100;X-TITLE=Frosinone:geo:41.6396,13.3
 508
END:VEVENT
BEGIN:VTIMEZONE
TZID:Europe/Rome
X-LIC-LOCATION:Europe/Rome
BEGIN:DAYLIGHT
DTSTART:20230326T030000
TZOFFSETFROM:+0100
TZOFFSETTO:+0200
TZNAME:CEST
END:DAYLIGHT
END:VTIMEZONE
END:VCALENDAR