BEGIN:VCALENDAR
VERSION:2.0
PRODID:-//wp-events-plugin.com//7.2.3.1//EN
TZID:Europe/Rome
X-WR-TIMEZONE:Europe/Rome
BEGIN:VEVENT
UID:31814@lazioeventi.com
DTSTART;TZID=Europe/Rome:20250801T190000
DTEND;TZID=Europe/Rome:20250802T233000
DTSTAMP:20250508T150440Z
URL:https://lazioeventi.com/eventi/strangusto
SUMMARY:StranGusto - Strangolagalli - 1 Agosto 25 19:00
DESCRIPTION:4^ edizione della Festa del cibo da strada con:\n- Arrosticini 
 di pecora\n- Frittura di Gamberi al cartoccio\n- L’impicccato…caciocav
 allo di Anna\;\n- SaSicce e pancetta\n- Pro Loco in porchetta e trippetta 
 al sugo\;\n- Gnocco fritto con mortadella e Sangria\;\n- Piovono Polpette\
 ;\n- lo spizzico della Bottegola\;\n- Pizze fritte e panzerotti\;\n- Torti
 glioni alla carbonara tartufata\;\n- Pampanella Molisana\;\n- Zucchero fil
 ato e Gonfiabili Bimbi\n- Gnocchi dolci\n- Dolci di Ada \n- Bombe e Ciambe
 lle Le Rose \n- Cocomero e Vodka \n\nVi aspettiamo a StranGusto - Strangol
 agalli (FR)\n\nSe vuoi partecipare con il tuo stand contatta:\n3209732623 
 Cristian\n3393236536 Loredana
ATTACH;FMTTYPE=image/jpeg:https://lazioeventi.com/wp-content/uploads/2022/
 07/strangusto-1.jpg
CATEGORIES:Musica, Spettacoli e Danza nel Lazio,Sagre, Gastronomia e
 Tradizioni nel Lazio
LOCATION:Strangolagalli\, Comune\, Strangolagalli\, Frosinone\, Lazio\, Ita
 lia
GEO:41.6012;13.4919
X-APPLE-STRUCTURED-LOCATION;VALUE=URI;X-ADDRESS=Comune\, Strangolagalli\, F
 rosinone\, Lazio\, Italia;X-APPLE-RADIUS=100;X-TITLE=Strangolagalli:geo:41
 .6012,13.4919
END:VEVENT
BEGIN:VTIMEZONE
TZID:Europe/Rome
X-LIC-LOCATION:Europe/Rome
BEGIN:DAYLIGHT
DTSTART:20250330T030000
TZOFFSETFROM:+0100
TZOFFSETTO:+0200
TZNAME:CEST
END:DAYLIGHT
END:VTIMEZONE
END:VCALENDAR