BEGIN:VCALENDAR
VERSION:2.0
PRODID:-//wp-events-plugin.com//7.2.3.1//EN
TZID:Europe/Rome
X-WR-TIMEZONE:Europe/Rome
BEGIN:VEVENT
UID:31892@lazioeventi.com
DTSTART;TZID=Europe/Rome:20240809T170000
DTEND;TZID=Europe/Rome:20240811T234500
DTSTAMP:20240619T143453Z
URL:https://lazioeventi.com/eventi/street-food-festival-torre-cajetani
SUMMARY:Street Food Festival Torre Cajetani - Torre Cajetani - 9 Agosto 24 
 17:00
DESCRIPTION:Food truck e bevande\nMusica dal vivo\nIntrattenimento bambini\
 n\nDalla Pizza\, alla Piadina\, dal classico hamburger all'arrosticino\, d
 alla cucina etnica messicana a quella cubana : lo Street Food Festival sba
 rca a Torre Cajetani!\n\nPer un Evento che vuole mettere al centro il cibo
  di strada ma che strizza l'occhio anche al meraviglioso patrimonio cultur
 ale ed artistico del territorio\; nei tre giorni infatti si potranno visit
 are il Castello Teofilatto\, forte medievale appartenuto alla famiglia Cae
 tani e uno dei luoghi di residenza\, tra gli altri\, di Papa Bonifacio VII
 I Caetani\; il Museo dell'Operetta Sandro Massimini \, uno dei tre musei d
 edicati all'operetta presenti su tutto il territorio nazionale\; la Chiesa
  di Santa Maria Assunta\, antica chiesa del paese recentemente restaurata.
 \n\nA fare da contorno eventi di musica dal vivo\, dj set e animazione per
  bambini.\n\nNon puoi mancare!\n
ATTACH;FMTTYPE=image/jpeg:https://lazioeventi.com/wp-content/uploads/2022/
 08/Torre-Cajetani-Street-Food-Festival.jpg
CATEGORIES:Sagre, Gastronomia e Tradizioni nel Lazio,Musica, Spettacoli e
 Danza nel Lazio
LOCATION:Torre Cajetani\, Comune di Torre Cajetani\, Torre Cajetani\, Frosi
 none\, Lazio\, Italia
GEO:41.7886;13.265
X-APPLE-STRUCTURED-LOCATION;VALUE=URI;X-ADDRESS=Comune di Torre Cajetani\, 
 Torre Cajetani\, Frosinone\, Lazio\, Italia;X-APPLE-RADIUS=100;X-TITLE=Tor
 re Cajetani:geo:41.7886,13.265
END:VEVENT
BEGIN:VTIMEZONE
TZID:Europe/Rome
X-LIC-LOCATION:Europe/Rome
BEGIN:DAYLIGHT
DTSTART:20240331T030000
TZOFFSETFROM:+0100
TZOFFSETTO:+0200
TZNAME:CEST
END:DAYLIGHT
END:VTIMEZONE
END:VCALENDAR