BEGIN:VCALENDAR
VERSION:2.0
PRODID:-//wp-events-plugin.com//7.2.3.1//EN
TZID:Europe/Rome
X-WR-TIMEZONE:Europe/Rome
BEGIN:VEVENT
UID:35175@lazioeventi.com
DTSTART;TZID=Europe/Rome:20230507T210000
DTEND;TZID=Europe/Rome:20230507T235900
DTSTAMP:20230428T211107Z
URL:https://lazioeventi.com/eventi/sturm-und-poetry-residency-poetry-slam-
 internazionale
SUMMARY:Sturm und poetry residency: Poetry Slam internazionale - Roma - 7 M
 aggio 23 21:00
DESCRIPTION:STURM UND POETRY RESIDENCY\n\nResidenza artistica\, workshop ne
 lle scuole e spettacoli di poesia\n\nCon un Poetry Slam internazionale: un
 a sfida di poesia orale tra Italia e Germania\n\nWOW - Incendi Spontanei i
 n collaborazione con l’Ufficio VIAVAI per gli scambi giovanili italo-ted
 eschi\n\nDomenica 7 maggio\, ore 21\n\n La Galleria delle Arti\, via dei 
 Sabelli 2\, Roma\n\nDal 2 al 7 maggio a Roma si svolgerà Sturm und Poetry
  Residency: l’iniziativa che prevederà una settimana di residenza artis
 tica e laboratori di poesia nelle scuole e università della Capitale svol
 ta da poeti italiani e tedeschi\, per culminare con una performance live d
 omenica 7 maggio dalle ore 21 alla Galleria delle Arti (via dei Sabelli 2\
 , Roma). Lo spettacolo sarà un Poetry Slam: una sfida di poesia orale tra
  artisti italiani e tedeschi che performeranno con il supporto di traduzio
 ni proiettate. L’evento è organizzato da WOW - Incendi Spontanei\, in c
 ollaborazione con l’Ufficio VIAVAI per gli scambi giovanili italo-tedesc
 hi con il patrocinio dell’Ambasciata di Germania a Roma e la partecipazi
 one del collettivo slam tedesco Kiezpoeten.
ATTACH;FMTTYPE=image/jpeg:https://lazioeventi.com/wp-content/uploads/2023/
 04/sturm.jpg
CATEGORIES:Arte e Cultura nel Lazio,Musica, Spettacoli e Danza nel Lazio
LOCATION:Roma\, Via Leopardi\, Roma\, Roma\, Lazio\, Italia
GEO:41.8942;12.5017
X-APPLE-STRUCTURED-LOCATION;VALUE=URI;X-ADDRESS=Via Leopardi\, Roma\, Roma\
 , Lazio\, Italia;X-APPLE-RADIUS=100;X-TITLE=Roma:geo:41.8942,12.5017
END:VEVENT
BEGIN:VTIMEZONE
TZID:Europe/Rome
X-LIC-LOCATION:Europe/Rome
BEGIN:DAYLIGHT
DTSTART:20230326T030000
TZOFFSETFROM:+0100
TZOFFSETTO:+0200
TZNAME:CEST
END:DAYLIGHT
END:VTIMEZONE
END:VCALENDAR