BEGIN:VCALENDAR
VERSION:2.0
PRODID:-//wp-events-plugin.com//7.2.3.1//EN
TZID:Europe/Rome
X-WR-TIMEZONE:Europe/Rome
BEGIN:VEVENT
UID:28422@lazioeventi.com
DTSTART;TZID=Europe/Rome:20210828T203000
DTEND;TZID=Europe/Rome:20210828T234500
DTSTAMP:20210814T194726Z
URL:https://lazioeventi.com/eventi/subiaco-folk-festival-2021
SUMMARY:Subiaco Folk Festival 2021 - Subiaco - 28 Agosto 21 20:30
DESCRIPTION:Il 28 agosto 2021 nei giardini della Rocca dei Borgia a Subiaco
  si svolgerà un concerto di una delle band più importanti che circolano 
 nel panorama musicale italiano\, una band che ha calcato ogni piazza d'Ita
 lia ricevendo sempre grandi elogi. Stiamo parlando dei fratelli Severini i
 n arte The Gang.\n\nIl concerto avrà inizio alle ore 21\,30 con apertura 
 della serata alle ore 20\,30 di Falzone\, cantautore provinciale come ama 
 definirsi\, musicista locale e molto apprezzato.
ATTACH;FMTTYPE=image/jpeg:https://lazioeventi.com/wp-content/uploads/2021/
 08/gang_foto1.jpg
CATEGORIES:Musica, Spettacoli e Danza nel Lazio
LOCATION:Subiaco\, Comune di Subiaco\, Subiaco\, Roma\, Lazio\, Italia
GEO:41.9243;13.0963
X-APPLE-STRUCTURED-LOCATION;VALUE=URI;X-ADDRESS=Comune di Subiaco\, Subiaco
 \, Roma\, Lazio\, Italia;X-APPLE-RADIUS=100;X-TITLE=Subiaco:geo:41.9243,13
 .0963
END:VEVENT
BEGIN:VTIMEZONE
TZID:Europe/Rome
X-LIC-LOCATION:Europe/Rome
BEGIN:DAYLIGHT
DTSTART:20210328T030000
TZOFFSETFROM:+0100
TZOFFSETTO:+0200
TZNAME:CEST
END:DAYLIGHT
END:VTIMEZONE
END:VCALENDAR