BEGIN:VCALENDAR
VERSION:2.0
PRODID:-//wp-events-plugin.com//7.2.3.1//EN
TZID:Europe/Rome
X-WR-TIMEZONE:Europe/Rome
BEGIN:VEVENT
UID:39825@lazioeventi.com
DTSTART;TZID=Europe/Rome:20240922T163000
DTEND;TZID=Europe/Rome:20240922T183000
DTSTAMP:20240913T161608Z
URL:https://lazioeventi.com/eventi/sulla-via-appia-antica-tra-aricchia-ed-
 albano
SUMMARY:Sulla Via Appia Antica tra Ariccia ed Albano - Ariccia - 22 Settemb
 re 24 16:30
DESCRIPTION:La Via Appia è stata ufficialmente iscritta nella Lista del Pa
 trimonio Mondiale\, una buona notizia che conferma il primato dell’Itali
 a\, portando a 60 il numero totale dei nostri siti riconosciuti dall'UNESC
 O. La Via Appia\, la Regina delle Vie (Regina Viarum)  che collega Roma a 
 Brindisi dal 312 a.C. rappresenta una straordinaria testimonianza dell'ing
 egneria romana e  veicolo di scambio culturale e commerciale e oggi può e
 ssere trasformato in un motore di sviluppo turistico nei territori che att
 raversa. Tante le associazioni che in questi anni hanno contribuito a spro
 nare il progetto di candidatura della Via Appia Antica a patrimonio mondia
 le\, a partire dal 2016\, tra cui Archeoclub Aricino Nemorense aps. \n\nL
 ’intenso lavoro per la tutela e valorizzazione del tratto aricino della 
 via Appia\, grazie anche alle figure professionali che fanno parte dell’
 Associazione\, è iniziato con pubblicazioni scientifiche (la catalogazion
 e e pubblicazione dei reperti conservati a Palazzo Chigi provenienti dall
 ’Appia “Su alcune antichità di Palazzo e Parco Chigi in Ariccia”\, 
 Annali 2006)\, a cui hanno fatto seguito numerosi articoli scientifici pub
 blicati su riviste specializzate e dall’Università di Roma Tor Vergata 
 ad Oxford nel 2021 e a settembre 2024 con importanti contenuti archeologic
 i riguardanti la struttura urbanistica della città antica e della consola
 re Appia nella valle.\n\nL’Archeoclub ha curato l’organizzazione di co
 nvegni nazionali dedicati alle"Vie Romane"\, organizzato raccolte di firme
  per la salvaguardia di monumenti quali la cd. Sostruzione in Vallericcia\
 , promosso dal 2010 puntuali campagne di ripuliture delle aree comunali di
  interesse archeologico lungo l’arteria\; elaborato nel 2014 il progetto
  di valorizzazione "Il tratto aricino della Regina Viarum" (di A. Silvestr
 i e M.C. Vincenti) approvato dal Comune di Ariccia e con l’Ente Regional
 e l’Associazione ha strettamente collaborato per l’inserimento della V
 ia Appia nella Legge sui Cammini. \n\nDal 2009 con i propri volontari si o
 ccupa dell'apertura e accompagnamento guidato della Locanda Martorelli\, e
 d realizzato nel 2019 un allestimento espositivo (progetto di A. Silvestri
  e M.C. Vincenti) nelle sale adiacenti la sala decorata dal Kuntz\, con un
 a importante sezione dedicata alla consolare romana contenente la gigantog
 rafia della Carta Archeologica di Luigi Canina arricchita da materiale fot
 ografico. Sempre riguardo alla via Appia l’Associazione è stata contatt
 ata da tutti coloro che\, sulle orme di Orazio\, hanno intrapreso il viagg
 io lungo il tracciato\, dal giornalista Paolo Rumiz\, al fotografo Giulio 
 Ielardi\, al giornalista Franco Bevilacqua\, che hanno realizzato i loro r
 ispettivi volumi grazie al ruolo di “Virgilio” svolto dall’Archeoclu
 b Aricino Nemorense aps lungo il tracciato dell’Appia nel territorio di 
 Albano Laziale\, Ariccia\, Genzano e Lanuvio. \nSin dalla prima edizione d
 ell’Appia Day\, che risale al 2016\, l’Archeoclub Aricino Nemorense ap
 s ha partecipato alla manifestazione in collaborazione con il Touring Club
  Italiano e la Soprintendenza organizzando eventi a Roma e ai Castelli Rom
 ani. \nAd agosto 2024 è stata fondata ad Ariccia la “Rete Associativa p
 er la valorizzazione della Via Appia ai Castelli Romani” a cui hanno ade
 rito dodici associazioni\, nazionali e locali tutte prestigiose. \n\nDomen
 ica 22 settembre si svolgerà l’APPIA DAY 2024 in tutte le regioni attra
 versate dalla Via Appia. \nAd Ariccia a partire dalle ore 16:30 avrà luog
 o l’evento: “SULLA VIA APPIA ANTICA PATRIMONIO DELL’UNESCO TRA ARICC
 IA E ALBANO” con partenza dalla Piazza di Corte (APPIA DAY ARICCIA: http
 s://www.appiaday.org/cronoprogramma-2024/)\n\nL’escursione guidata inizi
 erà dalla Locanda Martorelli con l’illustrazione della gigantografia de
 lla Carta Archeologica dell’Appia Antica di Luigi Canina. \nIl percorso 
 transiterà nel centro storico e sul tracciato dell’arteria romana  tra 
 Ariccia e Albano con un giro ad anello di circa 2 km e con ritorno al punt
 o di partenza.\nLa manifestazione è organizzata da Archeoclub Aricino Nem
 orense aps in collaborazione con il Comune di Ariccia\, Fa.Lu. Cioli 1917\
 , e con la partecipazione di Rete Tutela Roma Sud e Castelli Romani\, Grup
 po Archeologico Latino Latium Vetus e la Rete associativa per la valorizza
 zione della Via Appia Antica ai Castelli Romani. \nL’Archeo trekking sar
 à meditativo e durante il percorso si svolgeranno quattro pause di rifles
 sione: Da Antonio Cederna all’Appia Antica Patrimonio dell’Unesco ad A
 riccia e Albano: con Maria Cristina Vincenti\, archeologa/guida Aigae — 
 Archeoclub Aricino Nemorense aps\; Il termovalorizzatore nel nostro paesag
 gio: con Marco Alteri\, consigliere del Comune di Albano Laziale — Rete 
 Tutela Roma Sud e Castelli Romani\; \nDa Orazio al Grand Tour sulla Regina
  Viarum: con Alberto Silvestri\, storico delle antichità romane — Arche
 oclub Aricino Nemorense aps\; La Cura dei monumenti lungo la via Appia ad 
 Albano: con Giuliana Brega\, archeologa e guida turistica— Gruppo Archeo
 logico Latino "Latium Vetus" APS. \nAl termine dell’archeo trekking medi
 tativo si svolgerà un momento conviviale offerto dall’azienda FA.LU.CIO
 LI 1917\n\nNECESSARIA PRENOTAZIONE AI SEGUENTI CONTATTI:\n388/3636502 (wha
 tsapp)\; vincentimariacristina@virgilio.it\; archeoclubaricia@alice.it \n
ATTACH;FMTTYPE=image/jpeg:https://lazioeventi.com/wp-content/uploads/2024/
 09/LOCANDINA-APPIA-DAY-2024-senza-logo-AL.jpg
CATEGORIES:Arte e Cultura nel Lazio,Sport, Tempo Libero e Divertimento nel
 Lazio
LOCATION:Ariccia\, Comune\, Ariccia\, Roma\, Lazio\, Italia
GEO:41.72;12.671
X-APPLE-STRUCTURED-LOCATION;VALUE=URI;X-ADDRESS=Comune\, Ariccia\, Roma\, L
 azio\, Italia;X-APPLE-RADIUS=100;X-TITLE=Ariccia:geo:41.72,12.671
END:VEVENT
BEGIN:VTIMEZONE
TZID:Europe/Rome
X-LIC-LOCATION:Europe/Rome
BEGIN:DAYLIGHT
DTSTART:20240331T030000
TZOFFSETFROM:+0100
TZOFFSETTO:+0200
TZNAME:CEST
END:DAYLIGHT
END:VTIMEZONE
END:VCALENDAR