BEGIN:VCALENDAR
VERSION:2.0
PRODID:-//wp-events-plugin.com//7.2.3.1//EN
TZID:Europe/Rome
X-WR-TIMEZONE:Europe/Rome
BEGIN:VEVENT
UID:29108@lazioeventi.com
DTSTART;TZID=Europe/Rome:20211114T090000
DTEND;TZID=Europe/Rome:20211114T120000
DTSTAMP:20211109T165146Z
URL:https://lazioeventi.com/eventi/sulle-tracce-dei-pellegrini
SUMMARY:Sulle tracce dei Pellegrini - Viterbo - 14 Novembre 21 09:00
DESCRIPTION:Viterbo è la tappa più importante della Via Francigena prima 
 dell’agognata meta di Roma\; dal Medioevo sino ad oggi la nostra città 
 ha assistito ad un flusso ininterrotto di pellegrini\, che oltre a pregare
  nel Duomo e nelle altre splendide chiese\, potevano anche ristorarsi e ri
 posare nei vari ostelli messi caritatevolmente a disposizione dai vari ord
 ini religiosi.\n\nLa visita guidata ripercorre\, nel modo più fedele poss
 ibile\, il cammino del pellegrino\, una prima parte all’interno della ci
 ttà e una seconda nei dintorni\, in direzione di Vetralla\, prima tappa v
 erso la Capitale.\n\nLa durata della visita è di circa 3 ore\, quindi si 
 raccomanda un abbigliamento consono\, e soprattutto una scorta di acqua e 
 snack energetici.
ATTACH;FMTTYPE=image/jpeg:https://lazioeventi.com/wp-content/uploads/2021/
 11/pellegrini.jpeg
CATEGORIES:Arte e Cultura nel Lazio
LOCATION:Viterbo\, Comune\, Viterbo\, Viterbo\, Lazio\, Italia
GEO:42.417;12.1051
X-APPLE-STRUCTURED-LOCATION;VALUE=URI;X-ADDRESS=Comune\, Viterbo\, Viterbo\
 , Lazio\, Italia;X-APPLE-RADIUS=100;X-TITLE=Viterbo:geo:42.417,12.1051
END:VEVENT
BEGIN:VTIMEZONE
TZID:Europe/Rome
X-LIC-LOCATION:Europe/Rome
BEGIN:STANDARD
DTSTART:20211031T020000
TZOFFSETFROM:+0200
TZOFFSETTO:+0100
TZNAME:CET
END:STANDARD
END:VTIMEZONE
END:VCALENDAR