BEGIN:VCALENDAR
VERSION:2.0
PRODID:-//wp-events-plugin.com//7.2.3.1//EN
TZID:Europe/Rome
X-WR-TIMEZONE:Europe/Rome
BEGIN:VEVENT
UID:35728@lazioeventi.com
DTSTART;TZID=Europe/Rome:20230713T210000
DTEND;TZID=Europe/Rome:20230713T230000
DTSTAMP:20230605T124908Z
URL:https://lazioeventi.com/eventi/summer-festival-2023-07-13
SUMMARY:Summer Festival - Valmontone - 13 Luglio 23 21:00
DESCRIPTION:Con il Summer Festival 2023\, a Valmontone Outlet sarà un’es
 tate caldissima!\nGli appuntamenti sono: il 6 Luglio con il travolgente ro
 ck degli Skunk Anansie\, il 13 luglio con la musica dell’icona dance Gab
 ry Ponte\, il 20 Luglio con il rap solare di Rocco Hunt e il 27 Luglio con
  i successi della mitica Loredana Bertè.\nI biglietti? Li trovi da 15 eur
 o su TicketOne e all’Infopoint (solo nei weekend di Maggio e Giugno). \n
 \nL’inizio degli spettacoli è alle 21:00.\n\nCosa aspetti? Non perderti
  un’estate… degna di nota.\n\nSkunk Anansie - 6 luglio\nGabry Ponte - 
 13 luglio\nRocco Hunt - 20 luglio\nLoredana Bertè - 27 luglio\n
ATTACH;FMTTYPE=image/jpeg:https://lazioeventi.com/wp-content/uploads/2023/
 06/summer-fest-valmontone.jpg
CATEGORIES:Musica, Spettacoli e Danza nel Lazio
LOCATION:Valmontone\, Comune di Valmontone\, Valmontone\, Roma\, Lazio\, It
 alia
GEO:41.7771;12.9178
X-APPLE-STRUCTURED-LOCATION;VALUE=URI;X-ADDRESS=Comune di Valmontone\, Valm
 ontone\, Roma\, Lazio\, Italia;X-APPLE-RADIUS=100;X-TITLE=Valmontone:geo:4
 1.7771,12.9178
END:VEVENT
BEGIN:VTIMEZONE
TZID:Europe/Rome
X-LIC-LOCATION:Europe/Rome
BEGIN:DAYLIGHT
DTSTART:20230326T030000
TZOFFSETFROM:+0100
TZOFFSETTO:+0200
TZNAME:CEST
END:DAYLIGHT
END:VTIMEZONE
END:VCALENDAR