BEGIN:VCALENDAR
VERSION:2.0
PRODID:-//wp-events-plugin.com//7.2.3.1//EN
TZID:Europe/Rome
X-WR-TIMEZONE:Europe/Rome
BEGIN:VEVENT
UID:41697@lazioeventi.com
DTSTART;TZID=Europe/Rome:20250605T143000
DTEND;TZID=Europe/Rome:20250605T230000
DTSTAMP:20250528T064316Z
URL:https://lazioeventi.com/eventi/suonare-la-citta
SUMMARY:Suonare la città - Roma - 5 Giugno 25 14:30
DESCRIPTION:Il 5 giugno\, a cura di Lara Conte e Francesca Gallo\, performa
 nce\, ascolto e attraversamenti sonori nel cuore della Garbatella\n\nIngre
 sso gratuito\n\nUna giornata per ascoltare la città\, abitare i suoi sile
 nzi e i suoi rumori\, restituire una pluralità di voci. Il 5 giugno 2025 
 il Teatro Palladium e le strade della Garbatella diventano palcoscenico di
  Suonare la città. Dall’azione all’ecologia dell’ascolto\, un proge
 tto che intreccia ricerca accademica\, pratiche artistiche e partecipazion
 e urbana. A cura di Lara Conte e Francesca Gallo\, l’iniziativa si svilu
 ppa nell’ambito del PRIN PNRR ASE – Art Sound Environment: Towards a N
 ew Ecology of Landscape\, percorso di indagine che ripensa il paesaggio co
 ntemporaneo attraverso il suono e le sue forme ecologiche.\n\nIl titolo ev
 oca e rinnova l’azione visionaria di Giuseppe Chiari\, Suonare la città
 \, che nel 1969 trasformò Como in un'orchestra improvvisata. Una partitur
 a collettiva che invitava a risignificare lo spazio urbano attraverso la p
 artecipazione sonora. Oggi\, quell’azione si riattualizza con nuove doma
 nde: cosa significa ascoltare una città nel 2025? Quali suoni emergono da
 i suoi margini\, dalle sue case\, dai suoi attraversamenti quotidiani?\n\n
 La giornata si apre alle ore 14:30 al Teatro Palladium con i saluti istitu
 zionali di Anna Lisa Tota\, Prorettrice Vicaria dell’Università Roma Tr
 e\, e di Luca Aversano\, Direttore del Dipartimento di Filosofia\, Comunic
 azione e Spettacolo dell’Università Roma Tre. A seguire una tavola roto
 nda dedicata a Chiari\, con studiosi\, curatori e testimoni del suo lavoro
  – da Mario Chiari a Giulia Pedace\, da Pasquale Fameli a Livia De Pinto
  e Daniele Vergni\, passando per i contributi di dottorandi e di giovani r
 icercatori. Un confronto aperto sulle risonanze contemporanee del suo pens
 iero.\n\nAlle ore 17:30\, avrà luogo l’azione di Mauro Folci\, dell’A
 zione negatrice\, che evidenzia le trasformazioni dell’umano a partire d
 alle riflessioni di Kojève sulla condizione post-storica. Alle 18:00\, la
  camminata di ascolto alla Garbatella\, con un intervento dell’artista c
 anadese Julie Faubert realizzato in collaborazione con Daniela Angelucci e
  Francesco Careri\, esplora il quartiere come paesaggio da ascoltare\, men
 tre alle 19:00\, la performance Ritratto di M. di Sara Basta e Marzia Coro
 nati\, in collaborazione con Iuno\, Roma\, porta nel cuore della strada fr
 ammenti sonori di intimità domestica\, trasformati in segni collettivi.\n
 \nGran finale alle 21:00 al Teatro Palladium con Alvin Curran\, figura ico
 nica della musica sperimentale\, che presenta Endangered Species\, progett
 o solista in costante divenire\, alimentato da un archivio di circa tremil
 a suoni raccolti nell'arco di oltre sessant’anni di attività. Frammenti
  di voci\, ambienti naturali\, strumenti\, oggetti quotidiani\, tutti tras
 formati in materiale musicale grazie a un campionatore MIDI e intrecciati 
 in tempo reale con un pianoforte a coda. L'effetto è un affresco sonoro i
 n continua riscrittura\, dove ogni performance si fa unica e irripetibile.
ATTACH;FMTTYPE=image/jpeg:https://lazioeventi.com/wp-content/uploads/2025/
 05/Teatro-Palladium-Ph_Luca-Perazzolo.jpg
CATEGORIES:Arte e Cultura nel Lazio,Musica, Spettacoli e Danza nel Lazio
LOCATION:Roma\, Via Leopardi\, Roma\, Roma\, Lazio\, Italia
GEO:41.8942;12.5017
X-APPLE-STRUCTURED-LOCATION;VALUE=URI;X-ADDRESS=Via Leopardi\, Roma\, Roma\
 , Lazio\, Italia;X-APPLE-RADIUS=100;X-TITLE=Roma:geo:41.8942,12.5017
END:VEVENT
BEGIN:VTIMEZONE
TZID:Europe/Rome
X-LIC-LOCATION:Europe/Rome
BEGIN:DAYLIGHT
DTSTART:20250330T030000
TZOFFSETFROM:+0100
TZOFFSETTO:+0200
TZNAME:CEST
END:DAYLIGHT
END:VTIMEZONE
END:VCALENDAR