BEGIN:VCALENDAR
VERSION:2.0
PRODID:-//wp-events-plugin.com//7.2.3.1//EN
TZID:Europe/Rome
X-WR-TIMEZONE:Europe/Rome
BEGIN:VEVENT
UID:31401@lazioeventi.com
DTSTART;TZID=Europe/Rome:20220619T193000
DTEND;TZID=Europe/Rome:20220619T210000
DTSTAMP:20220616T171258Z
URL:https://lazioeventi.com/eventi/suoni-farnesiani-2022-06-19
SUMMARY:Suoni Farnesiani - Caprarola - 19 Giugno 22 19:30
DESCRIPTION:In arrivo a Palazzo Farnese la terza edizione della rassegna "S
 uoni Farnesiani"\, inaugurata nel 2020\, grazie alla collaborazione tra la
  direzione del museo e l'associazione I Concerti dell'Accademia degli Sfac
 cendati.\n\nQuesti i prossimi appuntamenti: domenica 19 giugno e domenica 
 26 giugno\, alle ore 19\,30.\n\nLa prenotazione non è obbligatoria\, ma 
 è consigliata.\n\nInfo e prenotazioni ai numeri: 06.9398003 oppure 333137
 5561.\n\nIl concerto è compreso nel biglietto d’ingresso al museo (5 eu
 ro intero\, 2 euro 18-25 anni\, gratuito 0-18 anni).
ATTACH;FMTTYPE=image/jpeg:https://lazioeventi.com/wp-content/uploads/2022/
 06/Locandina-Suoni-Farnesiani-2022.jpeg
CATEGORIES:Musica, Spettacoli e Danza nel Lazio
LOCATION:Caprarola\, Comune di Caprarola\, Caprarola\, Viterbo\, Lazio\, It
 alia
GEO:42.3275;12.2381
X-APPLE-STRUCTURED-LOCATION;VALUE=URI;X-ADDRESS=Comune di Caprarola\, Capra
 rola\, Viterbo\, Lazio\, Italia;X-APPLE-RADIUS=100;X-TITLE=Caprarola:geo:4
 2.3275,12.2381
END:VEVENT
BEGIN:VTIMEZONE
TZID:Europe/Rome
X-LIC-LOCATION:Europe/Rome
BEGIN:DAYLIGHT
DTSTART:20220327T030000
TZOFFSETFROM:+0100
TZOFFSETTO:+0200
TZNAME:CEST
END:DAYLIGHT
END:VTIMEZONE
END:VCALENDAR