BEGIN:VCALENDAR
VERSION:2.0
PRODID:-//wp-events-plugin.com//7.2.3.1//EN
TZID:Europe/Rome
X-WR-TIMEZONE:Europe/Rome
BEGIN:VEVENT
UID:28915@lazioeventi.com
DTSTART;TZID=Europe/Rome;VALUE=DATE:20211028
DTEND;TZID=Europe/Rome;VALUE=DATE:20211116
DTSTAMP:20211027T192311Z
URL:https://lazioeventi.com/eventi/super-heroes-show-on-tour
SUMMARY:Super Heroes Show on Tour - Roma - 28 Ottobre 21 00:00
DESCRIPTION:I SUPEREROI…COME NON LI AVETE MAI VISTI!\n\n \n\nDA GIOVEDÌ
  28 OTTOBRE A LUNEDÌ 15 NOVEMBRE 2021\n\nI SUPEREROI PIÙ AMATI ‘INVADO
 NO’ GLI SPAZI DEL\n\nCENTRO COMMERCIALE I GRANAI DI ROMA\n\nUna mostra
  di statue a grandezza naturale e un calendario di appuntamenti imperdibil
 i saranno al centro di una Expo Edition…con i ‘superpoteri’!\n\nOltr
 e due settimane di esposizione\, decine di appuntamenti tematici e una
  mostra immersiva che trasformerà il Centro Commerciale I Granai di 
 Roma nel quartier generale dei Supereroi più amati al mondo: avrà inizio
  GIOVEDI 28 OTTOBRE 2021 la grande mostra SUPER HEROES SHOW ON TOUR\, u
 n evento speciale “Wasama Expo Edition” che catturerà l’attenzione 
 dei visitatori di ogni età\, grazie anche ad un fitto calendario di appun
 tamenti da non perdere.\n\nFino a LUNEDI 15 NOVEMBRE 2021\, il Centro Com
 merciale I Granai ospiterà una grande esposizione dedicata ai più leggen
 dari Supereroi con statue “life size”\, a grandezza reale\, riprodott
 e fedelmente e arricchite da elementi scenografici e fondali tematici che
  ricreeranno gli scenari in cui agiscono i supereroi e che si trasformeran
 no in perfetti ‘selfie set’ per lasciarsi immortalare accanto al propr
 io superhero preferito!\n\nTra le figure in versione ‘life size’ spi
 ccano le statue ispirate a Batman\, Iron Man\, Superman\, Hulk\, Thor
 \, Wonder Woman\, Aquaman\, Capitan America\, Spider-Man\, Groot\, R
 ocket\, Ant-Man\, Wasp e Catwoman. All’interno dell’area espositi
 va sarà\, inoltre\, presente un set interamente ispirato al laboratorio d
 i Tony Stark – vera identità di Iron Man – con luci e ambientazioni
  speciali\, arricchite da teche con action figures e accessori di scena 
 dedicati allo stesso Iron Man e agli Avengers.\n\nLa mostra è\, inoltre
 \, impreziosita da una esposizione di rare action figures delle prestigi
 ose marche Hot Toys e Sideshow: riproduzioni iperrealistiche\, stavolta
  in scala 1:6 e 1:4\, dei personaggi e degli attori apparsi sul grande sc
 hermo nelle saghe cinematografiche dell’universo cinematografico della 
 Marvel e della DC Comics\, mostrati al pubblico in ventiquattro eleganti t
 eche espositive.\n\nLa mostra è tratta da un grande evento-spettacolo che
  ha conquistato\, nel 2018\, premio CNCC Award\, assegnato annualmente da
 l Consiglio Nazionale dei Centri Commerciali alle migliori attività\, ca
 mpagne\, strategie e servizi resi alla clientela da parte dei centri comme
 rciali italiani. La mostra in programma dal 28 ottobre al 14 novembre 2021
  è stata concepita nel totale rispetto delle normative anti-covid\, sen
 za precludere l’opportunità di introdurre momenti di incontro tra il pu
 bblico\, gli artisti e i “supereroi” del team Wasama Creative Factor
 y attraverso parate\, meet-and-greet e Walking Show con personaggi in cos
 tume\, brevi performance e coinvolgenti scene d’azione che potranno pre
 ndere vita in galleria\, in maniera programmata\, controllata e in deter
 minate zone delimitate del centro commerciale.\n\n&nbsp\;\n\nSUPER HEROES 
 ON TOUR\n\nGli appuntamenti in programma\n\n&nbsp\;\n_ sabato 30 e domenic
 a 31 ottobre 2021 | dalle 11.00 alle 18.30\nGotham Knights: incontra gli e
 roi di Gotham City e Metropolis / evento speciale Halloween\n\nScatta un s
 elfie con il tuo supereroe preferito! Fai una passeggiata in galleria...po
 tresti essere molto sorpreso!\n\n[walking show\, selfie\, meet-and-greet]\
 n\n&nbsp\;\n_ sabato 6 e domenica 7 novembre 2021 | dalle 11.00 alle 18.30
 \nArrivano i Titani…uno spettacolo tra i negozi! / doppio evento \n\n-
           Con i robot giganti la meraviglia è dietro l’angolo
 !  [con la collaborazione di Prizmatec Cosplay]\n\n-          
 “Arrivano i Super Eroi!”: vieni a scoprire chi sta girando in galleria
  tra stuntman e tanti personaggi decisamente super!\n\n[Saranno ospiti M
 artina Cassetti – “Black Widow”\; Marco Tola Spatola - “Tony St
 ark”\; Michele Paterakis - “Doctor Strange”\; Marko Noctis - “
 Spiderman” / Stunt Performer (stuntman professionista)\; Supereroi e Vil
 lain dal Marvel Cinematic Universe]\n\n&nbsp\;\n_ sabato 13 novembre 2021 
 | dalle 14.30 alle 19.00\nEvento HEROES GATHERING\n\nUn evento unico: un 
 vero e proprio raduno di 50 Super Eroi\, tutti diversi.\n\nVieni ad assist
 ere alla sfilata con le presentazioni di tutti i personaggi presenti: vivi
  la magia della parata nel Centro Commerciale I Granai\, scatta la tua fot
 o con i cosplayers e divertiti insieme ai tuoi personaggi preferiti!\n\n&n
 bsp\;\n_ domenica 14 novembre 2021 | dalle 11.00 alle 18.30\nEvento I GRA
 NAI COSPLAY CONTEST\n\nGara di Cosplay…UNA COMPETIZIONE SPETTACOLARE!\n\
 nI concorrenti sfileranno sul palco\, proponendo performance quali combatt
 imenti\, balletti\, canzoni\, monologhi e momenti tratti da scene dei film
  e dei cartoon dei più amati Super Eroi: partecipa alla competizione\, as
 sisti allo spettacolo al Centro Commerciale I Granai!
ATTACH;FMTTYPE=image/jpeg:https://lazioeventi.com/wp-content/uploads/2021/
 10/Super-Heroes-manifesto-programma-eventi.jpeg
CATEGORIES:Arte e Cultura nel Lazio,Sport, Tempo Libero e Divertimento nel
 Lazio
LOCATION:Roma\, Via Leopardi\, Roma\, Roma\, Lazio\, Italia
GEO:41.8942;12.5017
X-APPLE-STRUCTURED-LOCATION;VALUE=URI;X-ADDRESS=Via Leopardi\, Roma\, Roma\
 , Lazio\, Italia;X-APPLE-RADIUS=100;X-TITLE=Roma:geo:41.8942,12.5017
END:VEVENT
BEGIN:VTIMEZONE
TZID:Europe/Rome
X-LIC-LOCATION:Europe/Rome
BEGIN:DAYLIGHT
DTSTART:20210328T030000
TZOFFSETFROM:+0100
TZOFFSETTO:+0200
TZNAME:CEST
END:DAYLIGHT
BEGIN:STANDARD
DTSTART:20211031T020000
TZOFFSETFROM:+0200
TZOFFSETTO:+0100
TZNAME:CET
END:STANDARD
END:VTIMEZONE
END:VCALENDAR