BEGIN:VCALENDAR
VERSION:2.0
PRODID:-//wp-events-plugin.com//7.2.3.1//EN
TZID:Europe/Rome
X-WR-TIMEZONE:Europe/Rome
BEGIN:VEVENT
UID:42986@lazioeventi.com
DTSTART;TZID=Europe/Rome:20251109T183000
DTEND;TZID=Europe/Rome:20251109T200000
DTSTAMP:20251103T121505Z
URL:https://lazioeventi.com/eventi/tabea-debus-e-samuele-telari
SUMMARY:Tabea Debus e Samuele Telari - Fondi - 9 Novembre 25 18:30
DESCRIPTION:Domenica 9 novembre\, alle ore 18:30\, secondo appuntamento al 
 Palazzo Caetani di Fondi con I Concerti dell’Accademia degli Sfaccendati
 .\n\nI bravissimi Tabea Debus flautista e Samuele Telari fisarmonicista ba
 jan presenteranno  un percorso che attraversa epoche e linguaggi\, metten
 do in dialogo la malinconia del Rinascimento con le tensioni della moderni
 tà.\n\nSi apre con le pagine di John Dowland e Anthony Holborne\, dove
  la “melancholy” diventa cifra poetica e musicale: pavane e gagliarde 
 che trasformano il dolore in eleganza\, il silenzio in danza.\n\nDa qui\, 
 il viaggio approda alla Sonata in do minore di Johann Sebastian Bach\, 
 un capolavoro di equilibrio e invenzione\, dove la scrittura contrappuntis
 tica si intreccia con la cantabilità più intima.\n\nIl presente irrompe 
 con Would you keep a secret? di Simone Cardini\, una riflessione sonora
  che interroga la memoria e la fragilità del segreto\, mentre le romanze 
 di Brahms e Schubert – entrambe intitolate Geheimnis – ci ricord
 ano che il mistero è un filo che attraversa i secoli.\n\nTra questi poli\
 , la voce di Palestrina\, arricchita dalle diminuzioni di Virgiliano\, e
  le danze popolari di Bartók ci mostrano come la tradizione possa esser
 e reinventata\, trasformata\, resa viva.\n\nAntico e contemporaneo non son
 o mondi separati: in questo programma si sfiorano\, si rispondono\, si spe
 cchiano l’uno nell’altro\, rivelando che la musica è sempre attuale q
 uando sa parlare all’ascolto.\n\nI Concerti dell’Accademia degli Sfacc
 endati al Palazzo Caetani di Fondi sono realizzati dalla COOP ART di Roma 
 (socio AIAM e socio CIDIM) con il contributo del Ministero della Cultura e
  della Regione Lazio\, con il patrocinio del Parco Naturale Regionale Mont
 i Ausoni e del Lago di Fondi e del Comune di Fondi e in collaborazione con
  il Fondi Music Festival.\n\nInfo e prenotazioni: 3331375561
ATTACH;FMTTYPE=image/jpeg:https://lazioeventi.com/wp-content/uploads/2025/
 11/concerto_9_novembre2025.jpg
CATEGORIES:Musica, Spettacoli e Danza nel Lazio
LOCATION:Fondi\, Comune di Fondi\, Fondi\, Latina\, Lazio\, Italia
GEO:41.3569;13.431
X-APPLE-STRUCTURED-LOCATION;VALUE=URI;X-ADDRESS=Comune di Fondi\, Fondi\, L
 atina\, Lazio\, Italia;X-APPLE-RADIUS=100;X-TITLE=Fondi:geo:41.3569,13.431
END:VEVENT
BEGIN:VTIMEZONE
TZID:Europe/Rome
X-LIC-LOCATION:Europe/Rome
BEGIN:STANDARD
DTSTART:20251026T020000
TZOFFSETFROM:+0200
TZOFFSETTO:+0100
TZNAME:CET
END:STANDARD
END:VTIMEZONE
END:VCALENDAR