BEGIN:VCALENDAR
VERSION:2.0
PRODID:-//wp-events-plugin.com//7.2.3.1//EN
TZID:Europe/Rome
X-WR-TIMEZONE:Europe/Rome
BEGIN:VEVENT
UID:33640@lazioeventi.com
DTSTART;TZID=Europe/Rome:20230128T103000
DTEND;TZID=Europe/Rome:20230128T130000
DTSTAMP:20230103T111514Z
URL:https://lazioeventi.com/eventi/tabula-plena-di-marco-silvi-e-giulio-to
 sti
SUMMARY:Tabula Plena di Marco Silvi e Giulio Tosti - Roma - 28 Gennaio 23 1
 0:30
DESCRIPTION:Workshop di musica\n\nIl duo Tabula Plena\, composto da Marco S
 ilvi\, pianista e accordatore\, e Giulio Tosti\, organista e pianista  pro
 pone un Workshop in cui verranno spiegate le principali tecniche per prepa
 rare il pianoforte (a coda e verticale) usando oggetti di vita quotidiana.
  Verranno inoltre illustrate nozioni essenziali sulla storia del pianofort
 e\, sul funzionamento dello strumento e di tutte le sue parti più nascost
 e\, sull’accordatura e su come mantenerlo.\n\nLe finalità del workshop 
 sono quelle di divulgare una conoscenza più approfondita e consapevole de
 l pianoforte da parte dei pianisti (e non) e di invitare alla sperimentazi
 one di nuove sonorità sullo strumento\, andando oltre i canoni prestabili
 ti.\n\n \n\nIngresso libero fino ad esaurimento posti.
ATTACH;FMTTYPE=image/jpeg:https://lazioeventi.com/wp-content/uploads/2023/
 01/tabula-Plena.jpg
CATEGORIES:Musica, Spettacoli e Danza nel Lazio,Varie
LOCATION:Roma\, Via Leopardi\, Roma\, Roma\, Lazio\, Italia
GEO:41.8942;12.5017
X-APPLE-STRUCTURED-LOCATION;VALUE=URI;X-ADDRESS=Via Leopardi\, Roma\, Roma\
 , Lazio\, Italia;X-APPLE-RADIUS=100;X-TITLE=Roma:geo:41.8942,12.5017
END:VEVENT
BEGIN:VTIMEZONE
TZID:Europe/Rome
X-LIC-LOCATION:Europe/Rome
BEGIN:STANDARD
DTSTART:20221030T020000
TZOFFSETFROM:+0200
TZOFFSETTO:+0100
TZNAME:CET
END:STANDARD
END:VTIMEZONE
END:VCALENDAR