BEGIN:VCALENDAR
VERSION:2.0
PRODID:-//wp-events-plugin.com//7.2.3.1//EN
TZID:Europe/Rome
X-WR-TIMEZONE:Europe/Rome
BEGIN:VEVENT
UID:36820@lazioeventi.com
DTSTART;TZID=Europe/Rome;VALUE=DATE:20230906
DTEND;TZID=Europe/Rome;VALUE=DATE:20230908
DTSTAMP:20230829T190643Z
URL:https://lazioeventi.com/eventi/tarta-festa
SUMMARY:Tarta Festa - Monte Porzio Catone - 6 Settembre 23 00:00
DESCRIPTION:Il 6 e 7 Settembre si svolgerà nel comune di Monte Porzio Cato
 ne la Tarta Festa\, due giorni di giochi\, canti\, musica e spettacolo rig
 orosamente senza barriere! Una festa di tutti e per tutti che\, giunta all
 a decima edizione\, animerà ancora una volta il territorio\, riempiendo g
 li spazi cittadini di allegria\, colori e spensieratezza.\n\nSi tratta di 
 un’iniziativa promossa dall’associazione La Tartaruga Onlus che da ann
 i opera a livello locale con iniziative importanti orientate all’inclusi
 one e alla solidarietà.\n\nLa festa è un’occasione per costruire legam
 i\, vivere l’amicizia e tessere ponti tra le famiglie ma anche parlare d
 i disabilità con uno sguardo nuovo\, privo di retorica e pregiudizi\, per
 ché i bambini sono bambini anche nella disabilità. Non esistono limiti e
 d ostacoli alla felicità che ogni bambino sprigiona nel giocare e diverti
 rsi con i propri compagni.\n\nPatrocinato dal comune di Monte Porzio Caton
 e la Tarta Festa proporrà tantissime attività accessibili e integrate: l
 aboratori\, karaoke\, musica\, incontri ravvicinati con i super eroi e l
 ’immancabile Tarta Got Talent\, in cui ogni bambino potrà esibirsi most
 rando il proprio talento.\n\nIntegrazione\, gioia\, condivisione\, amicizi
 a e tanto divertimento diventano altresì occasione per sensibilizzare e r
 accogliere fondi per cause nobili.\n\nLa partecipazione alla pesca e cena 
 di beneficenza\, organizzate all’interno del programma\, permetteranno i
 nfatti il sostegno delle attività associative orientate a rendere sempre 
 più i Castelli Romani un luogo accessibile\, inclusivo\, fruibile e vivib
 ile da tutti\, nessuno escluso!
ATTACH;FMTTYPE=image/jpeg:https://lazioeventi.com/wp-content/uploads/2023/
 08/Locandina-Tarta-Festa.jpg
CATEGORIES:Sport, Tempo Libero e Divertimento nel Lazio,Musica, Spettacoli
 e Danza nel Lazio
LOCATION:Monte Porzio Catone\, Comune\, Monte Porzio Catone\, Roma\, Lazio\
 , Italia
GEO:41.8156;12.7166
X-APPLE-STRUCTURED-LOCATION;VALUE=URI;X-ADDRESS=Comune\, Monte Porzio Caton
 e\, Roma\, Lazio\, Italia;X-APPLE-RADIUS=100;X-TITLE=Monte Porzio Catone:g
 eo:41.8156,12.7166
END:VEVENT
BEGIN:VTIMEZONE
TZID:Europe/Rome
X-LIC-LOCATION:Europe/Rome
BEGIN:DAYLIGHT
DTSTART:20230326T030000
TZOFFSETFROM:+0100
TZOFFSETTO:+0200
TZNAME:CEST
END:DAYLIGHT
END:VTIMEZONE
END:VCALENDAR