BEGIN:VCALENDAR
VERSION:2.0
PRODID:-//wp-events-plugin.com//7.2.3.1//EN
TZID:Europe/Rome
X-WR-TIMEZONE:Europe/Rome
BEGIN:VEVENT
UID:41207@lazioeventi.com
DTSTART;TZID=Europe/Rome:20250416T163000
DTEND;TZID=Europe/Rome:20250416T190000
DTSTAMP:20250411T070337Z
URL:https://lazioeventi.com/eventi/tavola-rotonda-visioni-scatologiche-e-s
 alvezze-scientifiche
SUMMARY:II Biennale Dell'Antropocene Tavola Rotonda Visioni escatologiche e
  salvezze scientifiche - Roma - 16 Aprile 25 16:30
DESCRIPTION:Nell’ambito della II Biennale dell’Antropocene\, si svolger
 à il prossimo 16 aprile 2025 dalle ore 16.30 alle 19.00 la Tavola Rotonda
  “Visioni Escatologiche  e salvezze scientifiche”\, presso la Fondazio
 ne Marco Besso a Largo di Torre Argentina n. 11 a Roma.\n\nCome afferma\, 
 il direttore artistico della Biennale Antropocene\, Vittorio Pavoncello: 
 “Nell’organizzare la II Biennale Antropocene abbiamo voluto proporre l
 ’arte non soltanto come attività ed espressione umana\, ma anche come u
 n ponte che possa far dialogare la scienza con l’arte\, costituendo un l
 inguaggio meno specialistico e più comprensibile per un pubblico che vivr
 à nei prossimi anni l’impatto della loro attività di cittadini\, sull
 ’ambiente e sulla vita di ogni giorno. Mai come nell’Antropocene l’i
 nformazione è diventata importante e portante per una consapevolezza di v
 ita che può tramutarsi con estrema facilità in una scomparsa dovuta all
 ’analfabetismo. Si parla spesso di analfabetismo nel mondo citando numer
 i e dati ma non si pensa ai miliardi di analfabeti ambientali che oggi viv
 ono in una condizione di povertà ecologica. Per questo motivo\, con il su
 pporto della Fondazione Marco Besso e con l’ausilio dell’INGV\, abbiam
 o deciso di affiancare\, alle mostre previste per il 2025\, delle tavole r
 otonde sui temi che emergono dall’Antropocene\, cercando di capire megli
 o che cosa è l’Antropocene\, come si estende\, e quali sono pensieri ch
 e da questa attività umana\, sull’ambiente e su stessa\, emergono.”\n
 \nProgramma Mercoledi 16 aprile dalle 16.30 alle 19.00\n\nVISIONI ESCATOLO
 GICHE E SALVEZZE SCIENTIFICHE\nUno sguardo con le religioni\n\nInterventi:
 \nPastore LETIZIA TOMASSONE\ndocente presso la Facoltà Valdese di Teologi
 a\n\nRav GIANFRANCO DI SEGNI\nbiologo CNR\n\nImam Prof. NADER AKKAD\nDir. 
 Dip. Studi Islamici (CUIRIF)\n\nProf. GUIDO GIORDANO\nIstituto Buddista It
 aliano Soka Gakkai (ordinario di Vulcanologia Università Roma Tre)\nLettu
 ra di alcuni brani dell'Enciclica di Papa Francesco "LAUDATE SI" - legge M
 arco Macauda\n\nMODERA\nNIZAR RAMADAN\neditore\nSiamo ciò che lasciamo. L
 e tracce del nostro passare sulla Terra sono evidenti nell’aria\, nelle 
 acque\, nel suolo… Dove cercarle?\nALDO WINKLER\nPaleomagnetista INGV\n\
 nNADIA LO BUE\nOceanografa INGV\n\nPer partecipare in presenza prenotazion
 e obbligatoria su: https://fmbe.it/243 fino ad esaurimento posti\n\nDirett
 a streaming su www.fondazionemarcobesso.net/eventi \n\nPer ulteriori info 
 sulla Biennale dell’Antropocene:\nwww.biennaleantropocene.it\nsegreteria
 @biennaleantropocene.it
ATTACH;FMTTYPE=image/jpeg:https://lazioeventi.com/wp-content/uploads/2025/
 04/Locandina-tavola-rotonda-II-Biennale-Antropocene.jpg
CATEGORIES:Arte e Cultura nel Lazio
LOCATION:Roma\, Via Leopardi\, Roma\, Roma\, Lazio\, Italia
GEO:41.8942;12.5017
X-APPLE-STRUCTURED-LOCATION;VALUE=URI;X-ADDRESS=Via Leopardi\, Roma\, Roma\
 , Lazio\, Italia;X-APPLE-RADIUS=100;X-TITLE=Roma:geo:41.8942,12.5017
END:VEVENT
BEGIN:VTIMEZONE
TZID:Europe/Rome
X-LIC-LOCATION:Europe/Rome
BEGIN:DAYLIGHT
DTSTART:20250330T030000
TZOFFSETFROM:+0100
TZOFFSETTO:+0200
TZNAME:CEST
END:DAYLIGHT
END:VTIMEZONE
END:VCALENDAR