BEGIN:VCALENDAR
VERSION:2.0
PRODID:-//wp-events-plugin.com//7.2.3.1//EN
TZID:Europe/Rome
X-WR-TIMEZONE:Europe/Rome
BEGIN:VEVENT
UID:31803@lazioeventi.com
DTSTART;TZID=Europe/Rome:20220811T213000
DTEND;TZID=Europe/Rome:20220811T230000
DTSTAMP:20220727T233632Z
URL:https://lazioeventi.com/eventi/teatro-tra-le-porte-2022-08-11
SUMMARY:Teatro tra le Porte - Frosinone - 11 Agosto 22 21:30
DESCRIPTION:Torna a Frosinone  l’appuntamento con la decima edizione di
  Teatro tra le Porte  dal 21 Luglio all’11 Agosto 2022 in Piazza Vitto
 rio Veneto con inizio alle 21.30 e ingresso gratuito.\n\nLa rassegna\, org
 anizzata dall’amministrazione Mastrangeli (mediante gli assessorati alla
  cultura e al centro storico\; coordinati rispettivamente da Simona Gerali
 co e Danilo Magliocchetti.\n\nSi parte giovedì 28 luglio\, con “Io\, lu
 i e la fata turchina”\, con Claudia Mariani\, mentre sabato 30 sarà di 
 scena “Zit… canta che ti passa!”\, di e con Chiara Casarico e Tizian
 a Scrocca. \n\nGiovedì 4 agosto spazio a “Euforia”\, con Barbara Fori
 a\; regia di Claudio Insegno. Un mirabolante viaggio della donna d’oggi\
 , al tempo dei social\; di WhatsApp\, dell’amore sempre più virtuale e 
 sempre meno reale. La tesi è semplice: la vita va vissuta con ironia\, gi
 oia e tanta euforia. Anche quando si diventa grandi. \n\nDomenica 7 agosto
  sarà di scena “Ciao signo’”\, di e con Marco Marzocca e Stefano Sa
 rcinelli.\nUna serie infinita di gag comiche ed esilaranti che coinvolger
 à il pubblico fin dall’inizio dello spettacolo con incursioni a sorpres
 a di alcuni degli storici personaggi di Marco Marzocca che hanno fatto la 
 storia della comicità degli ultimi anni. \n\nChiusura giovedì 11 agosto 
 con “Chiamatemi Mimì”\, monologo musicale di Paolo Logli\; regia Norm
 a Martelli con Marco Morandi e Claudia Campagnola.\n“Chiamatemi Mimì”
  è il racconto di quelle canzoni immortali nel cuore di tutti noi\, da 
 “Piccolo Uomo” a “Minuetto”\, da “La costruzione di un amore” 
 ad “Almeno tu nell’universo”\, viste come tappe di una vicenda umana
  prima ancora che di una carriera canora. Mimì donna ferita\, Mimì donna
  orgogliosa\, Mimì vittima di indecenti maldicenze. Un viaggio nell’ani
 ma di una signora della canzone e nei fragili sentimenti di una donna trop
 po innamorata dell’amore. \n\nIl programma completo nella locandina.
ATTACH;FMTTYPE=image/jpeg:https://lazioeventi.com/wp-content/uploads/2022/
 07/teatro_porte2022.jpg
CATEGORIES:Musica, Spettacoli e Danza nel Lazio
LOCATION:Frosinone\, Comune\, Frosinone\, Frosinone\, Lazio\, Italia
GEO:41.6396;13.3508
X-APPLE-STRUCTURED-LOCATION;VALUE=URI;X-ADDRESS=Comune\, Frosinone\, Frosin
 one\, Lazio\, Italia;X-APPLE-RADIUS=100;X-TITLE=Frosinone:geo:41.6396,13.3
 508
END:VEVENT
BEGIN:VTIMEZONE
TZID:Europe/Rome
X-LIC-LOCATION:Europe/Rome
BEGIN:DAYLIGHT
DTSTART:20220327T030000
TZOFFSETFROM:+0100
TZOFFSETTO:+0200
TZNAME:CEST
END:DAYLIGHT
END:VTIMEZONE
END:VCALENDAR