BEGIN:VCALENDAR
VERSION:2.0
PRODID:-//wp-events-plugin.com//7.2.3.1//EN
TZID:Europe/Rome
X-WR-TIMEZONE:Europe/Rome
BEGIN:VEVENT
UID:31301@lazioeventi.com
DTSTART;TZID=Europe/Rome:20220616T203000
DTEND;TZID=Europe/Rome:20220616T223000
DTSTAMP:20220614T071752Z
URL:https://lazioeventi.com/eventi/teatro-tutti-in-scena
SUMMARY:Teatro : Tutti in scena - Cave - 16 Giugno 22 20:30
DESCRIPTION:TITOLO: Drammaturgia in commedia al teatro comunale di Cave Gio
 vedì 16 giugno alle ore 20\,30\, al teatro comunale di Cave\, il laborato
 rio teatrale "Tutti in Scena"\, presenterà la commedia a sfondo drammatur
 gico " Amor c'ha nullo amato non perdona".\n\nIl tutto sarà proposto da u
 n gruppo di studenti dell'Istituto Rosario Livatino. La regia sarà di Cla
 udi Dezi\, i costumi di Serena Borghesani consulenza musicale di Marisa Se
 pe.\n\nCi sarà la partecipazione straordinaria della Corale Lorenzo Peros
 i diretta daM° Adele Rossi.\n\nLa trama della commedia proporrà un viagg
 io a tema sull'amore che spaziera' tra letteratura e teatro.
ATTACH;FMTTYPE=image/jpeg:https://lazioeventi.com/wp-content/uploads/2022/
 06/LOCANDina-corale-16-06-22-TEATRO.jpg
CATEGORIES:Arte e Cultura nel Lazio
LOCATION:Cave\, Comune\, Cave\, Roma\, Lazio\, Italia
GEO:41.8175;12.9284
X-APPLE-STRUCTURED-LOCATION;VALUE=URI;X-ADDRESS=Comune\, Cave\, Roma\, Lazi
 o\, Italia;X-APPLE-RADIUS=100;X-TITLE=Cave:geo:41.8175,12.9284
END:VEVENT
BEGIN:VTIMEZONE
TZID:Europe/Rome
X-LIC-LOCATION:Europe/Rome
BEGIN:DAYLIGHT
DTSTART:20220327T030000
TZOFFSETFROM:+0100
TZOFFSETTO:+0200
TZNAME:CEST
END:DAYLIGHT
END:VTIMEZONE
END:VCALENDAR