BEGIN:VCALENDAR
VERSION:2.0
PRODID:-//wp-events-plugin.com//7.2.3.1//EN
TZID:Europe/Rome
X-WR-TIMEZONE:Europe/Rome
BEGIN:VEVENT
UID:31743@lazioeventi.com
DTSTART;TZID=Europe/Rome:20220726T213000
DTEND;TZID=Europe/Rome:20220726T230000
DTSTAMP:20220722T051447Z
URL:https://lazioeventi.com/eventi/temi-damore
SUMMARY:Temi d'Amore - Sora - 26 Luglio 22 21:30
DESCRIPTION:Viaggio attraverso le più belle musiche e testi ispirati all'a
 more\n\nUna serata di grande musica dedicata all'Amore.\nIngresso Libero -
  Partecipate.\n\n
ATTACH;FMTTYPE=image/jpeg:https://lazioeventi.com/wp-content/uploads/2022/
 07/temi-amore-sora.jpg
CATEGORIES:Arte e Cultura nel Lazio
LOCATION:Sora\, Comune di Sora\, Sora\, Frosinone\, Lazio\, Italia
GEO:41.7205;13.6139
X-APPLE-STRUCTURED-LOCATION;VALUE=URI;X-ADDRESS=Comune di Sora\, Sora\, Fro
 sinone\, Lazio\, Italia;X-APPLE-RADIUS=100;X-TITLE=Sora:geo:41.7205,13.613
 9
END:VEVENT
BEGIN:VTIMEZONE
TZID:Europe/Rome
X-LIC-LOCATION:Europe/Rome
BEGIN:DAYLIGHT
DTSTART:20220327T030000
TZOFFSETFROM:+0100
TZOFFSETTO:+0200
TZNAME:CEST
END:DAYLIGHT
END:VTIMEZONE
END:VCALENDAR