BEGIN:VCALENDAR
VERSION:2.0
PRODID:-//wp-events-plugin.com//7.2.3.1//EN
TZID:Europe/Rome
X-WR-TIMEZONE:Europe/Rome
BEGIN:VEVENT
UID:42348@lazioeventi.com
DTSTART;TZID=Europe/Rome:20250918T170000
DTEND;TZID=Europe/Rome:20250920T200000
DTSTAMP:20250904T083644Z
URL:https://lazioeventi.com/eventi/tempestas
SUMMARY:Tempĕstas - Roma - 18 Settembre 25 17:00
DESCRIPTION:Nell’ambito del progetto Umanità?!  \n\ncol patrocinio di
  Women Visual Artists Database e WindMill ART POWER PLANT\n\na cura e c
 on un testo critico di Giulia Del Papa\n\nMesia Space - Largo Mesia\, 3 
 / Via Vulci\, 32 - Roma\n\ndal 18 al 20 settembre 2025 \n\nInaugurazione 
 Giovedì 18 Settembre dalle 17.00 alle 20.00\n\n&nbsp\;\n\nTempĕstas è 
 un progetto d’arte condivisa ideato e realizzato da Roberta Maola che si
  terrà il 18\, 19 e 20 settembre 2025 presso Mesia Space\, a cura di Giul
 ia Del Papa.\n\nIl titolo di questo progetto\, ideato come insieme di azio
 ne d’arte condivisa\, performance ed esposizione\, si riferisce all’Ef
 fetto Farfalla: la teoria secondo cui anche fattori di minima entità poss
 ono avere influenze nel modificare il corso degli eventi.\n\n​Per questo
  motivo Tempĕstas inizia molto prima delle giornate presso Mesia Space.
  L’artista\, infatti\, nei mesi precedenti\, avrà realizzato e diffuso 
 circa 300 farfalle realizzate ad Origami\, per avviare un’azione collett
 iva di partecipazione attiva dello spettatore\, attraverso un lavoro di di
 vulgazione e invito alla ricerca sui propri canali social\, con l’obiett
 ivo di promuovere una consapevolezza più profonda dell’effetto che ha o
 gni scelta o comportamento individuale nel generare piccoli o grandi cambi
 amenti. In questo modo diventa possibile costruire ciò che il progetto U
 manità?! definisce il “nucleo affettivo della speranza” che permette
  di trasformare la rabbia distruttiva in voglia di fare\, dando senso e va
 lore all’esistenza.\n\nAlla base di questo progetto di Roberta Maola è 
 il concetto di trasformazione\, che si lega sia all’immagine della Farfa
 lla\, in cui la crisalide contiene la potenzialità dell’essere che dive
 rrà\, sia all’antica arte dell’Origami che consente di trasformare\, 
 piega dopo piega\, l’una necessaria all’altra\, un foglio di carta in 
 una piccola scultura.\n\nIl fil rouge che attraversa l’intera esperienza
 \, è il completamento dal vivo dell’opera a matita su tavola “Il tut
 to è più della somma delle parti”. Essa utilizza la rappresentazione f
 igurativa dell’origami a forma di farfalla per veicolare\, a coloro che 
 parteciperanno\, un messaggio esplicito di empowerment\, che mira a sposta
 re da esterno a interno quello che in gergo tecnico si chiama locus of con
 trol.\n\nChi avrà\, infatti\, partecipato alla ricerca delle farfalle ad 
 origami potrà prendere parte al completamento dell’opera attraverso un 
 momento di intima condivisione con l’artista che disegnerà dal vivo\, s
 olo ed esclusivamente in quell’istante di osservazione.\n\n“Lontano da
  tutto\, dal mondo reale e virtuale che invade l’intimo di ciascuno di n
 oi\, l’esperienza che qui Maola chiede di condividere vive nell’unicit
 à di un tempo concluso e due persone\, di un silenzio necessario e della 
 lontananza dall’esterno. Poter entrare con lo sguardo nello spazio della
  creazione artistica\, esperire quella profondità di sentimento ed emozio
 ne che l’arte consente di toccare e portare con sé il ricordo della vis
 ta e dello spirito.”\n\nL’opera\, dapprima esposta scomposta nelle ott
 antuno formelle che la compongono\, sarà ricomposta e visibile a tutti so
 lo l’ultimo giorno\, e a conclusione di tutto\, tre formelle saranno don
 ate a tre partecipanti in segno di restituzione e riunificazione delle par
 ti con il tutto che ha contribuito a crearle.\n\nMantenendo saldo quello s
 pirito di condivisione che permea il progetto\, all’inaugurazione è pre
 vista la partecipazione di Laura Cianca\, che leggerà la poesia “O me
 \, o vita!” di W. Whitman e l’intervento di Laura V.d.B. Facchini in
 sieme all’artista e alla curatrice. Inoltre\, nelle tre giornate saranno
  previsti l’azione trasformativa condivisa “Io sogno farfalle e tu?
 ” di Silvia Stucky e il reading di Poesia “IlluminatE” a cura di
  Patrizia Chianese con la partecipazione di Lucianna Argentino\, Candy 
 Candy\, Antonella Maria Carfora\, Laura Colombo\, Rossana Coratella\, Stef
 ania Di Lino\, Laura VdB Facchini\, Raffaella Lanzetta\, Maria Teresa Laud
 enzi\, Carolina Lombardi\, Camelia Mirescu\, Maria Grazia Savino.\n\n“Al
 la luce di questo\, di tutte le parti e le fasi che si intrecciano e compo
 ngono “Tempĕstas”\, l’ultimo filo rosso che appare è quello che co
 llega passato e presente. Quel che l’artista sembra dirci\, in conclusio
 ne\, è che arti antiche come l’origami e il disegno a matita su carta t
 rovano significato e vita attiva nel contemporaneo\, usando reti virtuali 
 per diffondere l’azione e allontanandole per riconnettersi allo spirito\
 , invitando gli osservatori ad una live action art experience per portarli
  poi nel proprio studio artistico.”
ATTACH;FMTTYPE=image/jpeg:https://lazioeventi.com/wp-content/uploads/2025/
 09/thumbnail.jpeg
CATEGORIES:Arte e Cultura nel Lazio
LOCATION:Roma\, Via Leopardi\, Roma\, Roma\, Lazio\, Italia
GEO:41.8942;12.5017
X-APPLE-STRUCTURED-LOCATION;VALUE=URI;X-ADDRESS=Via Leopardi\, Roma\, Roma\
 , Lazio\, Italia;X-APPLE-RADIUS=100;X-TITLE=Roma:geo:41.8942,12.5017
END:VEVENT
BEGIN:VTIMEZONE
TZID:Europe/Rome
X-LIC-LOCATION:Europe/Rome
BEGIN:DAYLIGHT
DTSTART:20250330T030000
TZOFFSETFROM:+0100
TZOFFSETTO:+0200
TZNAME:CEST
END:DAYLIGHT
END:VTIMEZONE
END:VCALENDAR