BEGIN:VCALENDAR
VERSION:2.0
PRODID:-//wp-events-plugin.com//7.2.3.1//EN
TZID:Europe/Rome
X-WR-TIMEZONE:Europe/Rome
BEGIN:VEVENT
UID:30011@lazioeventi.com
DTSTART;TZID=Europe/Rome:20220311T200000
DTEND;TZID=Europe/Rome:20220313T200000
DTSTAMP:20220308T110806Z
URL:https://lazioeventi.com/eventi/terapia-di-gruppo
SUMMARY:Terapia di Gruppo - Roma - 11 Marzo 22 20:00
DESCRIPTION:Arriverà al Teatro de’ Servi di Roma dall’11 al 13 marzo\,
  il nuovo tour della pluripremiata stand up comedian\, attrice\, attivista
  e autrice Chiara Becchimanzi\, con il suo Terapia di Gruppo: un’occasio
 ne dissacrante\, divertente e imperdibile per conoscere da vicino la nuova
  leva comica femminile italiana\, già protagonista di Battute? su RAI DUE
 \, di Comedy Central e dello Zelig Lab\, per ridere sulla psiche umana dop
 o due anni di pandemia.\n\nChiara Becchimanzi\, è un unicum nella scena i
 taliana: nei suoi vent’anni di carriera sul palco\, è riuscita a coniug
 are tutte le anime dello spettacolo dal vivo a 360 gradi\, facendo incontr
 are il teatro di prosa e colto con il teatro urbano\, arrivando all’iron
 ia dello stand up comedy senza dimenticare l’impegno sociale e la missio
 ne di sensibilizzazione nel toccare tematiche mai banali\, sempre con inte
 lligenza e attenzione. Da questo percorso\, artistico e umano\, nasce Tera
 pia di Gruppo uno spettacolo che\, con particolare attualità\, porta in s
 cena l’umanità e gli spettatori stessi\, ognuno con il proprio “farde
 llo” psicologico\, per un gioco teatrale che non smentisce la raffinatez
 za dell’approccio dell’attrice e autrice\, già premiata dall’Ordine
  degli Psicologi per il suo Principesse e Sfumature.\nTerapia di Gruppo è
  un esilarante flusso di coscienza che esplora le idiosincrasie e gli ster
 eotipi a cui purtroppo siamo fin troppo avvezzi\, fra ironia al femminile 
 e stand up comedy\, ma anche attivismo e impegno sociale. Lo spettacolo me
 scola sapientemente i numerosi talenti e le professionalità di Chiara\, i
 n un gioco con il pubblico che – mimando la classica terapia di gruppo 
 – si affida alla regola del tutto è possibile.\nGli spettatori sono inf
 atti sempre coinvolti in prima persona\, determinando la direzione che pre
 nderà il discorso. Sarà così più semplice ridere della nostra salute p
 sicologica\, un tema carissimo all’artista\, proprio in un momento in cu
 i il benessere psicologico è al centro del dibattito pubblico\, fra stras
 cichi della pandemia e bonus psicologo. Così\, mentre i più ottimisti in
 travedono la fine di questa crisi\, Chiara Becchimanzi ha trovato un modo 
 per ridere insieme con intelligenza e sarcasmo sulla psicologia umana\, at
 traverso uno spettacolo che improvvisa\, gioca con il pubblico e con i luo
 ghi comuni offrendo ogni volta uno spaccato umano profondo. Reduce dal for
 mat social Sanremo per Caso con Eleazaro Rossi\, Chiara Becchimanzi «soff
 re l’ansia della categorizzazione»\, come dimostrato dai suoi show e da
 lle sue attività.\n\n11\, 12\, 13 marzo - Ven e Sab ore 20.00\, Dom. ore 
 17.00.\n\nBiglietti 18 euro.
ATTACH;FMTTYPE=image/jpeg:https://lazioeventi.com/wp-content/uploads/2022/
 03/CHIARA-BECCHIMANZI.jpg
CATEGORIES:Musica, Spettacoli e Danza nel Lazio
LOCATION:Roma\, Via Leopardi\, Roma\, Roma\, Lazio\, Italia
GEO:41.8942;12.5017
X-APPLE-STRUCTURED-LOCATION;VALUE=URI;X-ADDRESS=Via Leopardi\, Roma\, Roma\
 , Lazio\, Italia;X-APPLE-RADIUS=100;X-TITLE=Roma:geo:41.8942,12.5017
END:VEVENT
BEGIN:VTIMEZONE
TZID:Europe/Rome
X-LIC-LOCATION:Europe/Rome
BEGIN:STANDARD
DTSTART:20211031T020000
TZOFFSETFROM:+0200
TZOFFSETTO:+0100
TZNAME:CET
END:STANDARD
END:VTIMEZONE
END:VCALENDAR