BEGIN:VCALENDAR
VERSION:2.0
PRODID:-//wp-events-plugin.com//7.2.3.1//EN
TZID:Europe/Rome
X-WR-TIMEZONE:Europe/Rome
BEGIN:VEVENT
UID:32712@lazioeventi.com
DTSTART;TZID=Europe/Rome;VALUE=DATE:20221022
DTEND;TZID=Europe/Rome;VALUE=DATE:20221023
DTSTAMP:20221017T090947Z
URL:https://lazioeventi.com/eventi/terre-dantera-storia-paesaggio-sviluppo
 -del-patrimonio-rurale
SUMMARY:Terre d'Antera: storia\, paesaggio\, sviluppo del patrimonio rurale
  - Monte San Giovanni Campano - 22 Ottobre 22 00:00
DESCRIPTION:Il 22 ottobre alle 10.30 presso la grangia cistercense dell'Ant
 era si terrà il convegno "Terre d'Antera: storia\, paesaggio\, sviluppo d
 el patrimonio rurale" con la presentazione della mappa dei sentieri montic
 iani. \n\nVi aspettiamo
ATTACH;FMTTYPE=image/jpeg:https://lazioeventi.com/wp-content/uploads/2022/
 10/terre-dantera.jpg
CATEGORIES:Arte e Cultura nel Lazio
LOCATION:Monte San Giovanni Campano\, Comune di Monte San Giovanni Campano\
 , Monte San Giovanni Campano\, Frosinone\, Lazio\, Italia
GEO:41.6401;13.5154
X-APPLE-STRUCTURED-LOCATION;VALUE=URI;X-ADDRESS=Comune di Monte San Giovann
 i Campano\, Monte San Giovanni Campano\, Frosinone\, Lazio\, Italia;X-APPL
 E-RADIUS=100;X-TITLE=Monte San Giovanni Campano:geo:41.6401,13.5154
END:VEVENT
BEGIN:VTIMEZONE
TZID:Europe/Rome
X-LIC-LOCATION:Europe/Rome
BEGIN:DAYLIGHT
DTSTART:20220327T030000
TZOFFSETFROM:+0100
TZOFFSETTO:+0200
TZNAME:CEST
END:DAYLIGHT
END:VTIMEZONE
END:VCALENDAR