BEGIN:VCALENDAR
VERSION:2.0
PRODID:-//wp-events-plugin.com//7.2.3.1//EN
TZID:Europe/Rome
X-WR-TIMEZONE:Europe/Rome
BEGIN:VEVENT
UID:30272@lazioeventi.com
DTSTART;TZID=Europe/Rome:20220402T183000
DTEND;TZID=Europe/Rome:20220402T200000
DTSTAMP:20220330T064500Z
URL:https://lazioeventi.com/eventi/the-handmaids-tale
SUMMARY:The handmaid’s tale - Anagni - 2 Aprile 22 18:30
DESCRIPTION:In un mondo devastato dalle radiazioni atomiche\, gli Stati Uni
 ti sono divenuti uno Stato totalitario\, basato sul controllo del corpo fe
 mminile. Difred\, la donna che appartiene a Fred\, ha solo un dovere da co
 mpiere nella neonata Repubblica di Galaad: garantire una discendenza alla 
 élite dominante. Il regime monoteocratico di questa società del futuro\,
  infatti\, è fondato sullo sfruttamento delle cosiddette ancelle\, le uni
 che donne che\, dopo la catastrofe\, sono ancora in grado di procreare. Ma
  anche lo Stato più repressivo non riesce a schiacciare i desideri e da q
 uesto dipenderà la possibilità e\, forse\, il successo di una ribellione
 .\n\nL’atmosfera silenziosa e pacata\, i ritmi di vita lenti e riflessiv
 i della nuova nazione\, le giornate scandite dal suono delle campane e dal
 le incombenze domestiche\, le ancelle che camminano a due a due\, rosse su
  questo sfondo anonimo e incolore\, e le mogli che sferruzzano a maglia o 
 curano i fiori del giardino… tutto questo scenario finto-pastorale diven
 ta sempre più intollerabile\, perché fa risaltare l’estrema crudeltà 
 e la violenza del sistema: lo stupro razionalizzato come sistema di soprav
 vivenza\, la prigionia elevata al rango di sacrificio per l’umanità\, l
 a maternità negata spacciata come dono. Il tutto presentato come una libe
 razione della donna dai pericoli che le imponeva la precedente società li
 bera.\n\nLe distopie affondano sempre le loro radici su una base di paure 
 realmente percepite dalle società che le generano. Ciò che spaventa de 
 “Il racconto dell’ancella” è l’impressione generale che il sovver
 timento che porta al colpo di stato e al regime religioso di Galaad sia st
 ato rapidissimo. Come se una società sonnolenta e stanca – che\, attenz
 ione!\, è in pratica la nostra – da un giorno all’altro si fosse sveg
 liata in un nuovo Medioevo\, dove le donne devono esclusivamente assolvere
  al “loro destino biologico”\, non possono leggere\, lavorare o giocar
 e. Tutto è gerarchizzato\, controllato e rigorosamente diviso in caste\n\
 nIn questa versione di teatro danza Valentina Cavaniglia\, Anna Maria Cont
 i e Ettore Manicuti diventamo corpo della memoria presente\, segno inciso 
 nel suono della parola\, negli occhi che ci guardano da un luogo indefinit
 o. Tempo che travalica le ere. Il corpo di ballo ferma l’attenzione sull
 e scene salienti mantenendo alta la tensione derivante dai contenuti.
ATTACH;FMTTYPE=image/jpeg:https://lazioeventi.com/wp-content/uploads/2022/
 03/handmaind.jpg
CATEGORIES:Musica, Spettacoli e Danza nel Lazio
LOCATION:Anagni\, Comune\, Anagni\, Frosinone\, Lazio\, Italia
GEO:41.7423;13.159
X-APPLE-STRUCTURED-LOCATION;VALUE=URI;X-ADDRESS=Comune\, Anagni\, Frosinone
 \, Lazio\, Italia;X-APPLE-RADIUS=100;X-TITLE=Anagni:geo:41.7423,13.159
END:VEVENT
BEGIN:VTIMEZONE
TZID:Europe/Rome
X-LIC-LOCATION:Europe/Rome
BEGIN:DAYLIGHT
DTSTART:20220327T030000
TZOFFSETFROM:+0100
TZOFFSETTO:+0200
TZNAME:CEST
END:DAYLIGHT
END:VTIMEZONE
END:VCALENDAR