BEGIN:VCALENDAR
VERSION:2.0
PRODID:-//wp-events-plugin.com//7.2.3.1//EN
TZID:Europe/Rome
X-WR-TIMEZONE:Europe/Rome
BEGIN:VEVENT
UID:35964@lazioeventi.com
DTSTART;TZID=Europe/Rome:20230623T213000
DTEND;TZID=Europe/Rome:20230623T235900
DTSTAMP:20230619T213027Z
URL:https://lazioeventi.com/eventi/the-old-skull
SUMMARY:The Old Skull - Roma - 23 Giugno 23 21:30
DESCRIPTION:The Old Skull\, la band metal romana che coinvolge abitualmente
  artisti della scena Hip-Hop nazionale\, torna dal vivo a due mesi dalla p
 ubblicazione dell’ultimo singolo “Limbo” con Pierpaolo Capovilla.\nL
 uca Martino (batteria)\, Francesco Persia (chitarra)\, Emanuele Calvelli (
 basso)\, Alex Merola (chitarra) e DJ Snifta\, si esibiranno in vari set co
 involgendo diverse realtà romane con cui hanno già collaborato e condivi
 dono una visione artistica che unisce rap e metal.\nSulle strumentali satu
 re e distorte si alterneranno le rime di Danno della storica formazione Co
 lle der Fomento. L’MC romano ha già partecipato a molti dei loro brani\
 , tra cui i singoli “Vecchio Teschio” e “Strozzapreti alla romana”
 . Sarà poi la volta del Turco\, altro musicista cardine della scena Hip-H
 op capitolina\, che passerà poi il microfono a Suarez e Chef Ragoo. Un co
 ncerto dal sapore crossover\, che vedrà poi salire sul palco tre degli MC
  della crew Do Your Thang: William Pascal\, Pacman XII e White Boy\, ma an
 che Wiser Keegan e Sgravo della Dead Poets Army.\n\nSui tappeti rap-core s
 uonati dal vivo\, gli MC si scambieranno a rotazione in momenti collettivi
  a più voci\, fino al superset finale dove tutti gli ospiti saranno assie
 me per concludere lo show. Un equilibrio dove convivono rime\, scratch\, c
 hitarre distorte e ritmiche serrate\, con la consapevolezza e il rispetto 
 reciproco verso i due generi musicali.\nDJ set prima e dopo i live a cura 
 di Upyard.\n\n&nbsp\;\n\nvenerdì 23 giugno\nOre 21.30\nCasilino Sky Park\
 n\nViale della Bella Villa\, 106 - Roma\nIngresso Euro 10\nInfoline 392401
 4427
ATTACH;FMTTYPE=image/jpeg:https://lazioeventi.com/wp-content/uploads/2023/
 06/The-Old-Skull-con-Danno-dei-Colle-der-Fomento.jpg
CATEGORIES:Musica, Spettacoli e Danza nel Lazio
LOCATION:Roma\, Via Leopardi\, Roma\, Roma\, Lazio\, Italia
GEO:41.8942;12.5017
X-APPLE-STRUCTURED-LOCATION;VALUE=URI;X-ADDRESS=Via Leopardi\, Roma\, Roma\
 , Lazio\, Italia;X-APPLE-RADIUS=100;X-TITLE=Roma:geo:41.8942,12.5017
END:VEVENT
BEGIN:VTIMEZONE
TZID:Europe/Rome
X-LIC-LOCATION:Europe/Rome
BEGIN:DAYLIGHT
DTSTART:20230326T030000
TZOFFSETFROM:+0100
TZOFFSETTO:+0200
TZNAME:CEST
END:DAYLIGHT
END:VTIMEZONE
END:VCALENDAR