BEGIN:VCALENDAR
VERSION:2.0
PRODID:-//wp-events-plugin.com//7.2.3.1//EN
TZID:Europe/Rome
X-WR-TIMEZONE:Europe/Rome
BEGIN:VEVENT
UID:29876@lazioeventi.com
DTSTART;TZID=Europe/Rome:20220227T183000
DTEND;TZID=Europe/Rome:20220227T200000
DTSTAMP:20220216T104021Z
URL:https://lazioeventi.com/eventi/the-prudes
SUMMARY:The prudes - Velletri - 27 Febbraio 22 18:30
DESCRIPTION:Domenica 27 febbraio alle ore 18.30 un nuovo appuntamento con l
 a stagione del Teatro Artemisio-Volonté\, diretto da Giacomo Zito. Salira
 nno\, sul palco di Velletri\, Carlotta Proietti e Gianluigi Fogacci\, per 
 mettere in scena “The prudes” di Anthony Neilson (con la traduzione di
  Natalia Di Giammarco).\n\nUna commedia vibrante e al contempo pregna di s
 punti di riflessione\, che muove da un grande interrogativo: come far fron
 te al calo di desiderio in una coppia che sta insieme da appena nove mesi?
  Lo spettacolo indaga un aspetto talvolta ancora negato da visioni conform
 istiche e bacchettone\, quello delle incomprensioni fra le lenzuola. Nel t
 esto di Neilson\, che punta ad abbattere la quarta parete\, ci sono humour
  e ironia tipici della tradizione anglosassone. I protagonisti\, Jess e Ja
 mes\, si interrogano\, si scontrano e si affrontano senza esclusione di co
 lpi alla ricerca della soluzione al loro problema.\n\nLe scene e i costumi
  sono di Susanna Proietti\, le musiche originali di Giovanni Mancini e la 
 regia di Gianluigi Fogacci.\n\nQuesti i prezzi dei Biglietti: platea primo
  settore 20 euro (+2 di prevendita\, 18 se ridotto)\, platea secondo setto
 re 18 euro (+2 di prevendita\, 15 euro +1\,50 di prevendita se ridotto)\, 
 galleria 15 euro (+1\,50 di prevendita\, 13 se ridotto)\, galleria per gru
 ppi organizzati di almeno venti persone (10 euro+1 di prevendita). È poss
 ibile acquistare il ticket su “TicketOne” oppure a “Il Biglietto” 
 in via De Filippo\, 99 a Velletri (lunedì-sabato\, 8-30-13/16-19\,45).\n\
 nLa stagione è organizzata dalla Fondazione di Partecipazione Arte &amp\;
  Cultura Città di Velletri in collaborazione con ATCL Lazio e con il patr
 ocinio del Comune di Velletri\, del Ministero della Cultura e della Region
 e Lazio.
ATTACH;FMTTYPE=image/jpeg:https://lazioeventi.com/wp-content/uploads/2022/
 02/prudes.jpg
CATEGORIES:Musica, Spettacoli e Danza nel Lazio
LOCATION:Velletri\, Comune\, Velletri\, Roma\, Lazio\, Italia
GEO:41.6865;12.7776
X-APPLE-STRUCTURED-LOCATION;VALUE=URI;X-ADDRESS=Comune\, Velletri\, Roma\, 
 Lazio\, Italia;X-APPLE-RADIUS=100;X-TITLE=Velletri:geo:41.6865,12.7776
END:VEVENT
BEGIN:VTIMEZONE
TZID:Europe/Rome
X-LIC-LOCATION:Europe/Rome
BEGIN:STANDARD
DTSTART:20211031T020000
TZOFFSETFROM:+0200
TZOFFSETTO:+0100
TZNAME:CET
END:STANDARD
END:VTIMEZONE
END:VCALENDAR