BEGIN:VCALENDAR
VERSION:2.0
PRODID:-//wp-events-plugin.com//7.2.3.1//EN
TZID:Europe/Rome
X-WR-TIMEZONE:Europe/Rome
BEGIN:VEVENT
UID:32261@lazioeventi.com
DTSTART;TZID=Europe/Rome:20220910T200000
DTEND;TZID=Europe/Rome:20220910T233000
DTSTAMP:20220908T222301Z
URL:https://lazioeventi.com/eventi/the-wine-fest
SUMMARY:The Wine Fest - Sant'Andrea del Garigliano - 10 Settembre 22 20:00
DESCRIPTION:The Wine Fest è nata da 4 ragazzi che avevano un solo obiettiv
 o: divertirsi e far divertire ricordando i tempi passati attraverso odori\
 , sapori e suoni della nostra terra!\n\nThe Wine Fest propone un itinerari
 o alla riscoperta della tradizione della nostra terra\, un tuffo nel passa
 to che accoglierà gli amanti della buona cucina tradizionale. \n\nMa che 
 festa del vino è senza vino?\nTranquilli\, ce ne sarà in abbondanza e pe
 r tutti i gusti! \n\nThe Wine Fest non è solo questo ma anche tanti balli
 \, tanta musica e tanto divertimento\, una serata che ti farà fare un ver
 o e proprio viaggio nel tempo. \n\nDopo 2 anni così difficili\, siamo fel
 ici di accogliervi nuovamente per ricominciare a brindare insieme
ATTACH;FMTTYPE=image/jpeg:https://lazioeventi.com/wp-content/uploads/2022/
 09/the-wine-fest.jpg
CATEGORIES:Sagre, Gastronomia e Tradizioni nel Lazio
LOCATION:Sant'Andrea del Garigliano\, Comune di Sant'Andrea del Garigliano\
 , Sant'Andrea del Garigliano\, Frosinone\, Lazio\, Italia
GEO:41.3659;13.8414
X-APPLE-STRUCTURED-LOCATION;VALUE=URI;X-ADDRESS=Comune di Sant'Andrea del G
 arigliano\, Sant'Andrea del Garigliano\, Frosinone\, Lazio\, Italia;X-APPL
 E-RADIUS=100;X-TITLE=Sant'Andrea del Garigliano:geo:41.3659,13.8414
END:VEVENT
BEGIN:VTIMEZONE
TZID:Europe/Rome
X-LIC-LOCATION:Europe/Rome
BEGIN:DAYLIGHT
DTSTART:20220327T030000
TZOFFSETFROM:+0100
TZOFFSETTO:+0200
TZNAME:CEST
END:DAYLIGHT
END:VTIMEZONE
END:VCALENDAR