BEGIN:VCALENDAR
VERSION:2.0
PRODID:-//wp-events-plugin.com//7.2.3.1//EN
TZID:Europe/Rome
X-WR-TIMEZONE:Europe/Rome
BEGIN:VEVENT
UID:28865@lazioeventi.com
DTSTART:20211020T100000Z
DTEND:20220306T180000Z
DTSTAMP:20211025T083537Z
URL:https://lazioeventi.com/eventi/thomas-hirschhorn-the-purple-line
SUMMARY:Thomas Hirschhorn. The Purple Line - Roma - 20 Ottobre 21 11:00
DESCRIPTION:Quello che i criceti non fanno: donne sulla luna e altri mister
 i Sala Graziella Lonardi Buontempo – ingresso libero fino a esaurimento 
 posti 10 posti individuali riservati per i titolari della card myMAXXI scr
 ivendo a mymaxxi@fondazionemaxxi.it\, en
ATTACH;FMTTYPE=image/jpeg:https://lazioeventi.com/wp-content/uploads/2021/
 10/Thomas-Hirschhorn.-The-Purple-Line.jpg
CATEGORIES:Arte e Cultura nel Lazio
LOCATION:Roma\, Via Leopardi\, Roma\, Roma\, Lazio\, Italia
GEO:41.8942;12.5017
X-APPLE-STRUCTURED-LOCATION;VALUE=URI;X-ADDRESS=Via Leopardi\, Roma\, Roma\
 , Lazio\, Italia;X-APPLE-RADIUS=100;X-TITLE=Roma:geo:41.8942,12.5017
END:VEVENT
END:VCALENDAR