BEGIN:VCALENDAR
VERSION:2.0
PRODID:-//wp-events-plugin.com//7.2.3.1//EN
TZID:Europe/Rome
X-WR-TIMEZONE:Europe/Rome
BEGIN:VEVENT
UID:37220@lazioeventi.com
DTSTART;TZID=Europe/Rome;VALUE=DATE:20231104
DTEND;TZID=Europe/Rome;VALUE=DATE:20231105
DTSTAMP:20230926T073340Z
URL:https://lazioeventi.com/eventi/tiger-fest
SUMMARY:Tiger fest - Ciampino - 4 Novembre 23 00:00
DESCRIPTION:Il 4 novembre 2023 con orgoglio festeggiamo il decimo compleann
 o dei Tiger Fregna\, la controversa e audace band rap che negli anni è di
 ventata culto a Roma e nel resto d’Italia. Con testi espliciti e un'este
 tica provocante\, il gruppo ha sfidato i confini dell'arte e della libert
 à di espressione\, attirando l'attenzione del pubblico e collezionando di
 ffide tra case discografiche e circoli ARCI d’Italia.\n\nIl gruppo inten
 de celebrare questo traguardo con un concerto speciale ricco di ospiti e s
 orprese\, perciò non prendete impegni e venite a festeggiare con noi!\n\n
 Questo è un evento 18+\n\nPer tutti i dettagli https://link.dice.fm/zhzr
 vtBnnDb\nNon mancate.
ATTACH;FMTTYPE=image/jpeg:https://lazioeventi.com/wp-content/uploads/2023/
 09/tiger-fregna.jpg
CATEGORIES:Musica, Spettacoli e Danza nel Lazio
LOCATION:Ciampino\, Comune\, Ciampino\, Roma\, Lazio\, Italia
GEO:41.8004;12.5908
X-APPLE-STRUCTURED-LOCATION;VALUE=URI;X-ADDRESS=Comune\, Ciampino\, Roma\, 
 Lazio\, Italia;X-APPLE-RADIUS=100;X-TITLE=Ciampino:geo:41.8004,12.5908
END:VEVENT
BEGIN:VTIMEZONE
TZID:Europe/Rome
X-LIC-LOCATION:Europe/Rome
BEGIN:STANDARD
DTSTART:20231029T020000
TZOFFSETFROM:+0200
TZOFFSETTO:+0100
TZNAME:CET
END:STANDARD
END:VTIMEZONE
END:VCALENDAR