BEGIN:VCALENDAR
VERSION:2.0
PRODID:-//wp-events-plugin.com//7.2.3.1//EN
TZID:Europe/Rome
X-WR-TIMEZONE:Europe/Rome
BEGIN:VEVENT
UID:39372@lazioeventi.com
DTSTART;TZID=Europe/Rome:20240803T200000
DTEND;TZID=Europe/Rome:20240803T233000
DTSTAMP:20240717T144124Z
URL:https://lazioeventi.com/eventi/tiromancino-tour
SUMMARY:Tiromancino Tour - Castelliri - 3 Agosto 24 20:00
DESCRIPTION:Il  20-21 Luglio e 3 Agosto 2024  a Castelliri (Frosinone) gran
 de appuntamento con Castelliri Summer Festival 2024 nell’ambito degli ev
 enti di Ciociaria For 2024.\n\nPROGRAMMA\n\nSabato 20 Luglio 2024 – ore 
 20.00\nNOTTE BIANCA DELLO SPORT\nPiazza Marconi – Parco Eventi “Enrico
  Macci”\n\nDomenica 21 Luglio 2024 – ore 21.30\nNOSTALGIA 90\nParco Ev
 enti “Enrico Macci”\n\nDomenica 28 Luglio 2024 – ore 20.00\nLE STRAD
 E DEL GUSTO\nPiazza Marconi – Piazza Principe di Piemonte\n\nSabato 3 Ag
 osto 2024 – ore 21.30\nParco Eventi “Enrico Macci” – CASTELLIRI\nT
 IROMANCINO – Tour\nINGRESSO GRATUITO\n\nTUTTE LE SERE STREET FOOD\ndalle
  ore 19.00
ATTACH;FMTTYPE=image/jpeg:https://lazioeventi.com/wp-content/uploads/2024/
 06/castelliri_summer_festival2024_3.webp
CATEGORIES:Musica, Spettacoli e Danza nel Lazio,Sagre, Gastronomia e
 Tradizioni nel Lazio,Sport, Tempo Libero e Divertimento nel Lazio
LOCATION:Castelliri\, Comune di Castelliri\, Castelliri\, Frosinone\, Lazio
 \, Italia
GEO:41.6794957;13.55002509999997
X-APPLE-STRUCTURED-LOCATION;VALUE=URI;X-ADDRESS=Comune di Castelliri\, Cast
 elliri\, Frosinone\, Lazio\, Italia;X-APPLE-RADIUS=100;X-TITLE=Castelliri:
 geo:41.6794957,13.55002509999997
END:VEVENT
BEGIN:VTIMEZONE
TZID:Europe/Rome
X-LIC-LOCATION:Europe/Rome
BEGIN:DAYLIGHT
DTSTART:20240331T030000
TZOFFSETFROM:+0100
TZOFFSETTO:+0200
TZNAME:CEST
END:DAYLIGHT
END:VTIMEZONE
END:VCALENDAR