BEGIN:VCALENDAR
VERSION:2.0
PRODID:-//wp-events-plugin.com//7.2.3.1//EN
TZID:Europe/Rome
X-WR-TIMEZONE:Europe/Rome
BEGIN:VEVENT
UID:31025@lazioeventi.com
DTSTART;TZID=Europe/Rome;VALUE=DATE:20220630
DTEND;TZID=Europe/Rome;VALUE=DATE:20220704
DTSTAMP:20220620T071635Z
URL:https://lazioeventi.com/eventi/tolfama
SUMMARY:Tolfama - Tolfa - 30 Giugno 22 00:00
DESCRIPTION:Vicolo Cechov\, Scuola Nazionale di Improvvisazione e Teatro\, 
 con il patrocinio del Comune di Tolfa e del Centro Studi Italo-Norvegese e
  la collaborazione di numerose associazioni locali tolfetane\, torna in co
 llina per la 11^ edizione di uno degli eventi di improvvisazione artistica
  e teatrale tra i più importanti del panorama nazionale: TOLFAMA – Fest
 ival Internazionale delle Arti Improvvisate\, ogni anno\, raduna nella spl
 endida cittadina decine di Improvvisatori da tutto il mondo\, tantissimi o
 spiti\, spettacoli sempre diversi e soprattutto: formazione teatrale.\n\nD
 al 30 Giugno al 3 Luglio\, infatti\, gli artisti Improvvisatori saranno im
 pegnati in quattro giorni di Workshop con sei coach di fama internazionale
 : Lena Breuer (Germania)\, Feña Ortalli (Argentina)\, Omar Galván (Argen
 tina)\, Martina Pavone (Italia)\, Jim Libby (USA)\, Menelaos Prokos (Greci
 a).\n\nI Workshop sono finalizzati alla messa in scena di sei spettacoli 
 “Site Specific”\, denominazione inglese che sta per “specifico di un
  sito\, di un luogo”.\n\nLe performance prenderanno vita sabato 2 luglio
  dalle 19 a mezzanotte\, sfruttando le caratteristiche naturali ed archite
 ttoniche che lo splendido Borgo di Tolfa offre\, tra palazzi rinascimental
 i\, piazzette e vicoli\; tutto questo\, per regalare al grande pubblico\, 
 che ogni anno in occasione dell’evento invade le vie del paese\, sei spe
 ttacoli suggestivi ed indimenticabili\, una formula che negli anni ha reso
  Tolfama uno tra i più importanti Festival in Italia ed Europa specializz
 ati nel site specific.\n\nCome se già questi ingredienti non fossero abba
 stanza per questa nuova edizione del Festival\, gli organizzatori Fabio As
 tolfi\, Roberto Rotondo\, Enrico D’Agata e Francesca Ciaralli hanno deci
 so di portare a Tolfama alcune importanti novità che renderanno di certo 
 l’evento ancora più unico che raro: la sera di venerdì 1 luglio\, uno 
 dei protagonisti più apprezzati e più internazionali della stand up come
 dy italiana (ha all’attivo uno special su Netflix\, un programma su Rai 
 2 e Radio 2\, si è esibito in inglese in 15 Paesi e ha vissuto a lungo in
  Inghilterra\, performando in numerosi comedy club)\, Francesco De Carlo\,
  si esibirà nel suo ultimo spettacolo comico “Pensieri Stupendi”\, co
 mposto negli anni dell’isolamento per riflettere insieme al pubblico sul
 la condizione dell’essere umano e sulla sua inevitabile\, ma talvolta ir
 onica\, solitudine.\n\nSia venerdì 1 luglio che sabato 2 luglio\, inoltre
 \, ci sarà la caratteristica Sagra “Rocca… in Cantina”\, organizzat
 a dal Rione Rocca per degustare i piatti tipici locali con tavoli allestit
 i lungo la caratteristica Via Costa Alta\, alle pendici del castello\, men
 tre il Centro Storico sarà animato da performance improvvisate a cura di 
 artisti che utilizzano l’improvvisazione come principale metodo di creaz
 ione e mercatini allestiti dai numerosi artigiani e produttori locali oper
 anti nel territorio di Tolfa\, Allumiere e Civitavecchia.\n\nScarica qui i
 l programma\n\n
ATTACH;FMTTYPE=image/jpeg:https://lazioeventi.com/wp-content/uploads/2022/
 05/tolfama.jpg
CATEGORIES:Arte e Cultura nel Lazio,Musica, Spettacoli e Danza nel
 Lazio,Sagre, Gastronomia e Tradizioni nel Lazio,Varie
LOCATION:Tolfa\, Comune di Tolfa\, Tolfa\, Roma\, Lazio\, Italia
GEO:42.1494;11.9374
X-APPLE-STRUCTURED-LOCATION;VALUE=URI;X-ADDRESS=Comune di Tolfa\, Tolfa\, R
 oma\, Lazio\, Italia;X-APPLE-RADIUS=100;X-TITLE=Tolfa:geo:42.1494,11.9374
END:VEVENT
BEGIN:VTIMEZONE
TZID:Europe/Rome
X-LIC-LOCATION:Europe/Rome
BEGIN:DAYLIGHT
DTSTART:20220327T030000
TZOFFSETFROM:+0100
TZOFFSETTO:+0200
TZNAME:CEST
END:DAYLIGHT
END:VTIMEZONE
END:VCALENDAR